BEGIN:VCALENDAR
VERSION:2.0
PRODID:-//wp-events-plugin.com//5.99912//EN
TZID:Europe/Berlin
X-WR-TIMEZONE:Europe/Berlin
BEGIN:VEVENT
UID:62033@punkt-linden.de
DTSTART;TZID=Europe/Berlin:20260212T183000
DTEND;TZID=Europe/Berlin:20260212T235900
DTSTAMP:20260131T201129Z
URL:https://punkt-linden.de/termine/auftakttreffen-fruehlingsfest-2026/
SUMMARY:Auftakttreffen Frühlingsfest 2026
DESCRIPTION:Es ist endlich wieder soweit: Wir fangen an\, das Frühlingsfes
 t 2026 zu planen!\n\nAlle die Lust haben mitzuplanen\, mitzureden oder ein
 fach erstmal reinschnuppern wollen\, sind herzlich eingeladen. Du brauchst
  weder Erfahrung in Veranstaltungsplanung\, noch musst du viel beim PLATZp
 rojekt mitgemacht haben oder dich auskennen*\, um teilzunehmen.\nWichtig i
 st nur\, dass du Lust hast\, das Frühlingsfest mitzuplanen und zu -gestal
 ten. Der Rest kommt von ganz allein!\n\nDieses Auftakttreffen ist erstmal 
 dazu da\, eine Planungsgruppe zu bilden\, gemeinsam einen groben Rahmen f
 ürs Frühlingsfest zu finden und Teams für die verschiedenen Themenberei
 chen zusammenzustellen.\n\nDazu gehören z. B.:\n\n 	Öffentlichkeitsarbei
 t und PR\n 	Programm (Musik\, Workshops und Rahmenprogramm)\n 	Deko\n 	Nac
 hhaltigkeit\n\nKommt vorbei\, wir freuen uns auf euch!\n\n* Du hast Lust\,
  dir fehlt aber erstmal die Grundlage über PLATZprojektstrukturen?\nDann 
 gibt es ab 17 Uhr bei PLATZ für dich – So kannst du mitmachen eine pass
 ende Einführung!
CATEGORIES:Engagement, Ehrenamt,Markt, Flohmarkt
LOCATION:PLATZprojekt\, Fössestraße 103\, Hannover\, 30453\, Deutschland
GEO:52.368185;9.697226
X-APPLE-STRUCTURED-LOCATION;VALUE=URI;X-ADDRESS=Fössestraße 103\, Hannove
 r\, 30453\, Deutschland;X-APPLE-RADIUS=100;X-TITLE=PLATZprojekt:geo:52.368
 185,9.697226
END:VEVENT
BEGIN:VTIMEZONE
TZID:Europe/Berlin
X-LIC-LOCATION:Europe/Berlin
BEGIN:STANDARD
DTSTART:20251026T020000
TZOFFSETFROM:+0200
TZOFFSETTO:+0100
TZNAME:CET
END:STANDARD
END:VTIMEZONE
END:VCALENDAR