BEGIN:VCALENDAR
VERSION:2.0
PRODID:-//wp-events-plugin.com//5.99912//EN
TZID:Europe/Berlin
X-WR-TIMEZONE:Europe/Berlin
BEGIN:VEVENT
UID:60295@punkt-linden.de
DTSTART;TZID=Europe/Berlin:20250815T180000
DTEND;TZID=Europe/Berlin:20250815T180000
DTSTAMP:20250812T160004Z
URL:https://punkt-linden.de/termine/amplify/
SUMMARY:AMPLIFY
DESCRIPTION:Amplify is an experimental fusion of many styles\, so we gather
 ing people with a vision of sound. Feel invited to dance and come together
 .&nbsp\;Open ab 18:00 Uhr im Innenhof mit (Live-)Musik\, Getränken und Pi
 zza. Ab 22:00 Uhr gemeinsam Feiern und Tanzen in Saal und Salon. Everybody
  Welcome!&nbsp\;Line Up:&nbsp\;julez [live mc]mattis [latin funk | disco |
  brazil]lekka lekka [hip hop | jersey club | amapiano]sketta [dancehall | 
 afrobeat | mashup]timoka [break | bass | baile funk]dj yamyam [latin bass 
 | house]I need € [live mc]julemz [baile funk]erasmus [house]bousset [afr
 o house]&nbsp\;[image src="/assets/2.jpg" id="3754" width="600" height="75
 0" class="leftAlone ss-htmleditorfield-file image"]Tickets: 15\,-€ Hier 
 Tickets bestellen
CATEGORIES:Musik, Konzert
LOCATION:Béi Chéz Heinz\, Liepmannstraße 7b\, Hannover\, 30453\, Deutsch
 land
GEO:52.37195;9.69636
X-APPLE-STRUCTURED-LOCATION;VALUE=URI;X-ADDRESS=Liepmannstraße 7b\, Hannov
 er\, 30453\, Deutschland;X-APPLE-RADIUS=100;X-TITLE=Béi Chéz Heinz:geo:5
 2.37195,9.69636
END:VEVENT
BEGIN:VTIMEZONE
TZID:Europe/Berlin
X-LIC-LOCATION:Europe/Berlin
BEGIN:DAYLIGHT
DTSTART:20250330T030000
TZOFFSETFROM:+0100
TZOFFSETTO:+0200
TZNAME:CEST
END:DAYLIGHT
END:VTIMEZONE
END:VCALENDAR