BEGIN:VCALENDAR
VERSION:2.0
PRODID:-//wp-events-plugin.com//5.99912//EN
TZID:Europe/Berlin
X-WR-TIMEZONE:Europe/Berlin
BEGIN:VEVENT
UID:62251@punkt-linden.de
DTSTART;TZID=Europe/Berlin:20260220T200000
DTEND;TZID=Europe/Berlin:20260220T200000
DTSTAMP:20260219T170005Z
URL:https://punkt-linden.de/termine/5mal5-konzert/
SUMMARY:5mal5 Konzert
DESCRIPTION:5mal5: BIERTOIFEL\, KACKBRATZE\, SCHREI!\, DEUTSCH&amp\;SELTSAM
 \, UBERKID\nDie Veranstaltungsreihe 5mal5 legt wieder in punkige Gewässer
  ab. Mit an Bord bei diesem Törn sind die Schiffskapellen:\nSCHREI! aus H
 annover\, die mit Ihrem heavy Punk-Rock und deutschen Texten durch Landsch
 aften voller Herzblut\, derber Poesie\, Emotionen\, Lebenserfahrung und un
 gezügelter Energie führen.\nBei den Hannoveranern DEUTSCH&amp\;SELTSAM t
 rifft Deutschpunk auf seltsame Ideen und mitunter experimentelle Klänge. 
 Kommt\, staunt und tanzt!\nDie treibenden Songs von UBERKID aus Berlin/Han
 nover vereinen authentische Gitarren-Bretter und billigen Techno zu einem 
 eingängigen\, extrem tanzbaren Rausch der Rhythmik.\nBIERTOIFEL spielen O
 ld-School- &amp\; Oi-Street-Punk aus Senftenberg\nKACKBRATZE ist feucht-fr
 öhlicher Fun-Punk aus Berlin.\nDie Crew von GLÜCKS-KÖRPER pierct Euch g
 erne mit jeder Art von Piratenschmuck.Tickets: 25\,- € Hier Tickets best
 ellen
CATEGORIES:Musik, Konzert
LOCATION:Béi Chéz Heinz\, Liepmannstraße 7b\, Hannover\, 30453\, Deutsch
 land
GEO:52.37195;9.69636
X-APPLE-STRUCTURED-LOCATION;VALUE=URI;X-ADDRESS=Liepmannstraße 7b\, Hannov
 er\, 30453\, Deutschland;X-APPLE-RADIUS=100;X-TITLE=Béi Chéz Heinz:geo:5
 2.37195,9.69636
END:VEVENT
BEGIN:VTIMEZONE
TZID:Europe/Berlin
X-LIC-LOCATION:Europe/Berlin
BEGIN:STANDARD
DTSTART:20251026T020000
TZOFFSETFROM:+0200
TZOFFSETTO:+0100
TZNAME:CET
END:STANDARD
END:VTIMEZONE
END:VCALENDAR