BEGIN:VCALENDAR
VERSION:2.0
PRODID:-//wp-events-plugin.com//5.99912//EN
TZID:Europe/Berlin
X-WR-TIMEZONE:Europe/Berlin
BEGIN:VEVENT
UID:61020@punkt-linden.de
DTSTART;TZID=Europe/Berlin:20260220T200000
DTEND;TZID=Europe/Berlin:20260220T235900
DTSTAMP:20251022T111037Z
URL:https://punkt-linden.de/termine/5mal5-biertoifel-kackbratze-schrei-deu
 tschseltsam-uberkid/
SUMMARY:5mal5: BIERTOIFEL\, KACKBRATZE\, SCHREI!\,  DEUTSCH&amp\;SELTSAM\, 
 UBERKID
DESCRIPTION:Die Veranstaltungsreihe 5mal5 legt wieder in punkige Gewässer 
 ab. Mit an Bord bei diesem Törn sind die Schiffskapellen:\n\nSCHREI! aus 
 Hannover\, die mit Ihrem heavy Punk-Rock und deutschen Texten durch Landsc
 haften voller Herzblut\, derber Poesie\, Emotionen\, Lebenserfahrung und u
 ngezügelter Energie führen.\n\nBei den Hannoveranern DEUTSCH&amp\;SELTSA
 M trifft Deutschpunk auf seltsame Ideen und mitunter experimentelle Kläng
 e. Kommt\, staunt und tanzt!\n\nDie treibenden Songs von UBERKID aus Berli
 n/Hannover vereinen authentische Gitarren-Bretter und billigen Techno zu e
 inem eingängigen\, extrem tanzbaren Rausch der Rhythmik.\n\nBIERTOIFEL sp
 ielen Old-School- &amp\; Oi-Street-Punk aus Senftenberg\n\nKACKBRATZE ist 
 feucht-fröhlicher Fun-Punk aus Berlin.\n\nDie Crew von GLÜCKS-KÖRPER pi
 erct Euch gerne mit jeder Art von Piratenschmuck.
ATTACH;FMTTYPE=image/jpeg:https://punkt-linden.de/wp-content/uploads/2025/
 10/jump.png
CATEGORIES:Musik, Konzert
LOCATION:Béi Chéz Heinz\, Liepmannstraße 7b\, Hannover\, 30453\, Deutsch
 land
GEO:52.37195;9.69636
X-APPLE-STRUCTURED-LOCATION;VALUE=URI;X-ADDRESS=Liepmannstraße 7b\, Hannov
 er\, 30453\, Deutschland;X-APPLE-RADIUS=100;X-TITLE=Béi Chéz Heinz:geo:5
 2.37195,9.69636
END:VEVENT
BEGIN:VTIMEZONE
TZID:Europe/Berlin
X-LIC-LOCATION:Europe/Berlin
BEGIN:STANDARD
DTSTART:20251026T020000
TZOFFSETFROM:+0200
TZOFFSETTO:+0100
TZNAME:CET
END:STANDARD
END:VTIMEZONE
END:VCALENDAR