BEGIN:VCALENDAR
VERSION:2.0
PRODID:-//wp-events-plugin.com//5.99912//EN
TZID:Europe/Berlin
X-WR-TIMEZONE:Europe/Berlin
BEGIN:VEVENT
UID:62727@punkt-linden.de
DTSTART;TZID=Europe/Berlin:20260424T224500
DTEND;TZID=Europe/Berlin:20260424T224500
DTSTAMP:20260412T090010Z
URL:https://punkt-linden.de/termine/4wuthering-heightssturmhoehe/
SUMMARY:WUTHERING HEIGHTS- Sturmhöhe
DESCRIPTION:Entstaubte Neuverfilmung des Literatur-Klassikers von Emily Bro
 ntë: STURMHÖHE über die unglückliche verbotene Liebe zwischen Cathy un
 d Heathcliff mit MARGOT ROBBIE (Barbie) und JACOB ELORDI (Saltburn\, Prisc
 illa). \nRegisseurin EMERALD FENNEL hat mit SALTBURN und PROMISING YOUNG W
 OMAN bewiesen\, wie starke Geschichten filmisch umgesetzt werden können.\
 nEine mutige und originelle Interpretation der größten Liebesgeschichte 
 aller Zeiten.\n\n"Berauschend\, transzendent\, verlockend\, betörend\, be
 gehrenswert\, hypnotisch (...) Fängt meisterhaft die atemberaubende Sehns
 ucht und das Wesen des Verlangens ein \nVariety\n\n"Der Film ist leidensch
 aftlich\, gewagt und präsentiert eine Version des Klassikers\, die unsere
  Aufmerksamkeit verdient."\nBuzzFees\n\n"Margot Robbie und Jacob Elordi si
 nd einfach phänomenal"\nVariety\n\nBerauschendes Filmerlebnis () macht au
 s dem Klassiker einen fiebrigen Rausch.\nNDR Kultur\n\nEin fast schon unan
 ständig überwältigender Kinofilm.\nSüddeutsche Zeitung\nGB 2026\, 134 
 Min. (+-\,50)\, ab 16 J.\, R:  Emerald Fennell\, mit: : Margot Robbie\, Ja
 cob Elordi\, Hong Chau\, Owen Cooper\, Alison Oliver\, Ewan Mitchell\, 
CATEGORIES:Kino, Film
LOCATION:Apollo Kino\, Limmerstraße 50\, Hannover\, 30451\, Linden-Nord\, 
 Deutschland
GEO:52.37383;9.70702
X-APPLE-STRUCTURED-LOCATION;VALUE=URI;X-ADDRESS=Limmerstraße 50\, Hannover
 \, 30451\, Linden-Nord\, Deutschland;X-APPLE-RADIUS=100;X-TITLE=Apollo Kin
 o:geo:52.37383,9.70702
END:VEVENT
BEGIN:VTIMEZONE
TZID:Europe/Berlin
X-LIC-LOCATION:Europe/Berlin
BEGIN:DAYLIGHT
DTSTART:20260329T030000
TZOFFSETFROM:+0100
TZOFFSETTO:+0200
TZNAME:CEST
END:DAYLIGHT
END:VTIMEZONE
END:VCALENDAR