BEGIN:VCALENDAR
VERSION:2.0
PRODID:-//wp-events-plugin.com//5.99912//EN
TZID:Europe/Berlin
X-WR-TIMEZONE:Europe/Berlin
BEGIN:VEVENT
UID:59575@punkt-linden.de
DTSTART;TZID=Europe/Berlin:20250531T180000
DTEND;TZID=Europe/Berlin:20250531T180000
DTSTAMP:20250519T090009Z
URL:https://punkt-linden.de/termine/4weisheit-des-gluecks/
SUMMARY:Weisheit des Glücks
DESCRIPTION:Das versöhnliche Vermächtnis des 14. Dalai Lama fürs 21. Jah
 rhundert - ein neuartiges\, unvergesslich meditatives Kino-Erlebnis. Ein F
 ilm\, der glücklich macht.\nEin berührendes\, cineastisches Portrait der
  Gedankenwelt des Dalai Lama für unsere heutige Zeit. Im einem seiner let
 zten Auftritte auf der grossen Leinwand wendet sich der unermüdliche Bots
 chafter des Mitgefühls direkt an die Zuschauer:innen und nimmt sie mit au
 f eine Reise zur Quelle des Glücks.\nNach einem langen und bewegten Leben
  im Spannungsfeld zwischen jahrtausendealten tibetisch-buddhistischen Trad
 itionen und der westlichen\, globalisierten Gesellschaft betrachtet der Da
 lai Lama unsere heutige\, moderne Welt mit ihren technischen und gesellsch
 aftlichen Errungenschaften\, die am Rande eines drohenden Klimakollaps um 
 die Beendung von Gewalt und Krieg kämpft.\nMit seinen Erfahrungen\, seine
 m wachen Geist und seinem Humor skizziert der bald 90-Jährige Wege zu ein
 em hoffnungsvollen und zufriedenen Leben und inspiriert uns über die pers
 önliche Entfaltung hinaus\, wie wir zu einer friedlichen\, ökologisch si
 nnvollen Zukunft unseres Planeten beitragen können: Das Glück beginnt mi
 t bedingungslosem Mitgefühl und liegt in unseren Händen.\n\n"Wie eine Pr
 ivataudienz beim Dalai Lama (...) Der Film ist von Wahrhaftigkeit und aufr
 üttelnder\, positiver Energie geprägt\, die jeder gebrauchen kann"\nNDR 
 Kultur\n\n"Sein Lachen ist ansteckend:\nEin Film wie eine Audienz beim Dal
 ai Lama\nEs ist ein Film\, um mal richtig durchzuatmen."\nHAZ\n\n"Inspirie
 rend"\nFilmdienst\nCH 2024\, 90 Min. (engl. OmU)\, ab 0 J.\, R: Barbara Mi
 ller\, Philip Delaquis\, 
CATEGORIES:Kino, Film
LOCATION:Apollo Kino\, Limmerstraße 50\, Hannover\, 30451\, Linden-Nord\, 
 Deutschland
GEO:52.37383;9.70702
X-APPLE-STRUCTURED-LOCATION;VALUE=URI;X-ADDRESS=Limmerstraße 50\, Hannover
 \, 30451\, Linden-Nord\, Deutschland;X-APPLE-RADIUS=100;X-TITLE=Apollo Kin
 o:geo:52.37383,9.70702
END:VEVENT
BEGIN:VTIMEZONE
TZID:Europe/Berlin
X-LIC-LOCATION:Europe/Berlin
BEGIN:DAYLIGHT
DTSTART:20250330T030000
TZOFFSETFROM:+0100
TZOFFSETTO:+0200
TZNAME:CEST
END:DAYLIGHT
END:VTIMEZONE
END:VCALENDAR