BEGIN:VCALENDAR
VERSION:2.0
PRODID:-//wp-events-plugin.com//5.99912//EN
TZID:Europe/Berlin
X-WR-TIMEZONE:Europe/Berlin
BEGIN:VEVENT
UID:60670@punkt-linden.de
DTSTART;TZID=Europe/Berlin:20250928T110000
DTEND;TZID=Europe/Berlin:20250928T110000
DTSTAMP:20250916T090010Z
URL:https://punkt-linden.de/termine/4treu/
SUMMARY:TREU
DESCRIPTION:Kurzfilmpremiere - Die Alzheimer Gesellschaft Hannover e.V. lä
 dt ein im Rahmen der Wochen der Demenz\nSie wacht auf und weiß nicht\, wo
  sie sich befindet. Um sie herum ist alles so fremd. Warum trägt sie ein 
 rotes Negligee und warum ist ihr Lippenstift verschmiert Wie kommt sie üb
 erhaupt hierher Und warum kann sie die Tür nach draußen nicht öffnen Al
 s ein Mann auf sie zukommt\, der behauptet\, sie zu kennen\, weiß sie kei
 nen anderen Ausweg als zu fliehen. Doch wohin Mit seinem Kurzspielfilm TRE
 U stellt der Filmemacher Hansjörg Thurn unter Beweis\, dass er die Regeln
  des filmischen Erzählens im Bereich Thriller und Drama sehr wohl kennt u
 nd beherrscht. Da ist die verkantete\, sehr nah bei den Figuren bleibende 
 Kamera\, die uns schon auf der visuellen Ebene signalisiert\, dass hier et
 was nicht stimmt. Da ist die unheilvolle Musik\, die die Bedrohung auf die
  auditive Ebene überträgt. Oder die geheimnisvolle und nicht zu durchsch
 auende Mimik der Protagonisten  Annika Kuhl und und Anthony Arndt spielen 
 ihre Rollen überzeugend - und die Wendung des Plots hin zu einer überras
 chenden und auch berührenden Auflösung. All das zusammen macht TREU zu e
 inem stimmigen und stimmungsvollen Film\, dem eine sehr empathische Ausein
 andersetzung mit dem Thema Altersdemenz gelingt. \n\nWas den Film TREU so 
 besonders macht\, ist seine Wahrhaftigkeit. Deutlich wird\, wie stark Lieb
 e und Unterstützung in solchen Situationen sein können. Ein Film\, der g
 leichermaßen berührt\, inspiriert und zum Nachdenken anregt sowie das Be
 wusstsein für die Alzheimer-Krankheit schärft\n\nIm Anschluss an die Fil
 mvorführung von TREU (ca. 15 Minuten) besteht die Möglichkeit\, mit dem 
 Filmteam sowie den Vertreterinnen und Vertretern der Alzheimer Gesellschaf
 t Hannover e.V. ins Gespräch zu kommen.\nD 2025\, 14 Min.\, R: Hansjörg 
 Thurn
CATEGORIES:Kino, Film
LOCATION:Apollo Kino\, Limmerstraße 50\, Hannover\, 30451\, Linden-Nord\, 
 Deutschland
GEO:52.37383;9.70702
X-APPLE-STRUCTURED-LOCATION;VALUE=URI;X-ADDRESS=Limmerstraße 50\, Hannover
 \, 30451\, Linden-Nord\, Deutschland;X-APPLE-RADIUS=100;X-TITLE=Apollo Kin
 o:geo:52.37383,9.70702
END:VEVENT
BEGIN:VTIMEZONE
TZID:Europe/Berlin
X-LIC-LOCATION:Europe/Berlin
BEGIN:DAYLIGHT
DTSTART:20250330T030000
TZOFFSETFROM:+0100
TZOFFSETTO:+0200
TZNAME:CEST
END:DAYLIGHT
END:VTIMEZONE
END:VCALENDAR