BEGIN:VCALENDAR
VERSION:2.0
PRODID:-//wp-events-plugin.com//5.99912//EN
TZID:Europe/Berlin
X-WR-TIMEZONE:Europe/Berlin
BEGIN:VEVENT
UID:62557@punkt-linden.de
DTSTART;TZID=Europe/Berlin:20260404T201500
DTEND;TZID=Europe/Berlin:20260404T201500
DTSTAMP:20260323T100010Z
URL:https://punkt-linden.de/termine/4the-housemaidwenn-sie-wuete/
SUMMARY:THE HOUSEMAID - Wenn Sie wüßte
DESCRIPTION:Verfilmung des Bestselleromans von Freida McFaddens über über
  Macht und Manipulation!\nMillie scheint auf den ersten Blick das perfekte
  Hausmädchen zu sein. Obwohl sie deutlich überqualifiziert ist\, bewirbt
  sie sich bei der wohlhabenden Familie Winchester\, die in einem idyllisch
 en Haus in einer ruhigen Gegend lebt. Millie tritt stets gepflegt und eleg
 ant auf\, ihr Haar sitzt perfekt\, doch insgeheim ist sie obdachlos und le
 bt in ihrem Auto. Schnell wird klar\, dass sie nicht die ganze Wahrheit pr
 eisgibt: Sie steht unter Bewährung und muss eine feste Anstellung nachwei
 sen\, um nicht ins Gefängnis zurück zu müssen.\nAls sie von der gutglä
 ubigen und warmherzigen Nina eingestellt wird\, schöpft Millie neue Hoffn
 ung. Doch schon beim Betreten des Hauses merkt sie\, dass Nina sehr launis
 ch wirkt und ihr Verhalten zunehmend eigenartig wird. Andrew  ist hingegen
  freundlich zu Millie\, und sie versucht\, mit seiner Tochter Cecelia eine
  Verbindung aufzubauen. Doch das Mädchen zeigt kaum Interesse und wirkt i
 n sich gekehrt\, als würde es von etwas belastet werden.\n\n"Überraschen
 d und fies"\n3sat kino kino\n\n"Ein Dekolleté für den Feminismus"\nTAZ\n
 \n"Äusserst unterhaltsamer Film (...) voller Twists\, skurriler Momente u
 nd besitzt eine wirklich tolle Grundspannung"\nOutnow\n\n"Mitreißend"\nTh
 e Guardian\n\n"Raffiniert"\nVariety\nUSA 2025\, 131 Min. (+-\,50)\, 16 J.\
 , R: Paul Feig\, mit: Sydney Sweeney\, Amanda Seyfried\, Brandon Sklenar u
 .a.
CATEGORIES:Kino, Film
LOCATION:Apollo Kino\, Limmerstraße 50\, Hannover\, 30451\, Linden-Nord\, 
 Deutschland
GEO:52.37383;9.70702
X-APPLE-STRUCTURED-LOCATION;VALUE=URI;X-ADDRESS=Limmerstraße 50\, Hannover
 \, 30451\, Linden-Nord\, Deutschland;X-APPLE-RADIUS=100;X-TITLE=Apollo Kin
 o:geo:52.37383,9.70702
END:VEVENT
BEGIN:VTIMEZONE
TZID:Europe/Berlin
X-LIC-LOCATION:Europe/Berlin
BEGIN:DAYLIGHT
DTSTART:20260329T030000
TZOFFSETFROM:+0100
TZOFFSETTO:+0200
TZNAME:CEST
END:DAYLIGHT
END:VTIMEZONE
END:VCALENDAR