BEGIN:VCALENDAR
VERSION:2.0
PRODID:-//wp-events-plugin.com//5.99912//EN
TZID:Europe/Berlin
X-WR-TIMEZONE:Europe/Berlin
BEGIN:VEVENT
UID:59870@punkt-linden.de
DTSTART;TZID=Europe/Berlin:20250704T223000
DTEND;TZID=Europe/Berlin:20250704T223000
DTSTAMP:20250622T090012Z
URL:https://punkt-linden.de/termine/4the-amateur/
SUMMARY:THE AMATEUR
DESCRIPTION:OSCAR-Preisträger RAMI MALEK (Bohemian Rhapsody) begibt sich i
 n dem Spionage-Thriller auf eine gefährliche Rachemission.\nCharlie Helle
 r (Rami Malek) ist ein brillanter\, aber stark introvertierter Decoder fü
 r die CIA\, der in einem Kellerbüro am Hauptsitz in Langley arbeitet. Sei
 n Leben gerät aus den Fugen\, nachdem seine Frau bei einem Terroranschlag
  in London getötet wird. Als seine Vorgesetzten sich weigern\, Maßnahmen
  zu ergreifen\, nimmt er die Sache selbst in die Hand und begibt sich auf 
 eine gefährliche Reise rund um den Globus\, um die Verantwortlichen aufzu
 spüren. Sein Intellekt dient ihm dabei als ultimative Waffe\, um seine Ve
 rfolger abzuschütteln und seinen Racheplan in die Tat umzusetzen.\n\n"Int
 elligenter\, spannender Thriller"\nARD moma\n\n"Spionagethriller mit Tiefg
 ang"\nNDR Kultur\n\n"Agententhriller im besten Old-School-Format mit origi
 nellen Veränderungen vor"\nHAZUSA 2025\, 122 Min.\, ab 12 J.\, R: James H
 awes\, mit: Rami Malek\, Laurence Fishburne\, Rachel Brosnahan\, Caitríon
 a Balfe\, Jon Bernthal\, Michael Stuhlbarg\, Holt McCallany\, Julianne Nic
 holson\, Adrian Martinez\, Danny Sapani u.a.
CATEGORIES:Kino, Film
LOCATION:Apollo Kino\, Limmerstraße 50\, Hannover\, 30451\, Linden-Nord\, 
 Deutschland
GEO:52.37383;9.70702
X-APPLE-STRUCTURED-LOCATION;VALUE=URI;X-ADDRESS=Limmerstraße 50\, Hannover
 \, 30451\, Linden-Nord\, Deutschland;X-APPLE-RADIUS=100;X-TITLE=Apollo Kin
 o:geo:52.37383,9.70702
END:VEVENT
BEGIN:VTIMEZONE
TZID:Europe/Berlin
X-LIC-LOCATION:Europe/Berlin
BEGIN:DAYLIGHT
DTSTART:20250330T030000
TZOFFSETFROM:+0100
TZOFFSETTO:+0200
TZNAME:CEST
END:DAYLIGHT
END:VTIMEZONE
END:VCALENDAR