BEGIN:VCALENDAR
VERSION:2.0
PRODID:-//wp-events-plugin.com//5.99912//EN
TZID:Europe/Berlin
X-WR-TIMEZONE:Europe/Berlin
BEGIN:VEVENT
UID:60377@punkt-linden.de
DTSTART;TZID=Europe/Berlin:20250829T174500
DTEND;TZID=Europe/Berlin:20250829T174500
DTSTAMP:20250817T090010Z
URL:https://punkt-linden.de/termine/4perfect-days/
SUMMARY:PERFECT DAYS
DESCRIPTION:Nominiert für den OSCAR - Bester ausländischer Film!\nSILBERN
 E PALME als Bester Schauspieler für Hauptdarsteller Koji Yakusho!\nHiraya
 ma scheint vollauf zufrieden mit seinem einfachen Leben als Toilettenreini
 ger in Tokio. Außerhalb seines sehr strukturierten Alltags genießt er se
 ine Leidenschaft für Musik und für Bücher. Und er liebt Bäume und foto
 grafiert sie. Eine Reihe von unerwarteten Begegnungen enthüllt nach und n
 ach mehr von seiner Vergangenheit. Eine zutiefst bewegende und poetische R
 eflexion über die Suche nach Schönheit in der alltäglichen Welt um uns 
 herum.\n\n"Unbeschreiblich schön."\nHollywood Reporter\n\n"Wim Wenders be
 ster Spielfilm seit Jahrzehnten\, subtil\, humorvoll\, lebensweise."\nDer 
 Spiegel\n\n"Ein wunderbarer Wenders mit herzerwärmenden Humor."\n3sat kin
 okino\n\n"Ein sanftes Wunder."\nDeadline\n\n"Wenders trifft Mitten ins Her
 z mit dieser einfachen\, berührenden Ode an die Arbeitsroutine und alltä
 gliche menschliche Beziehungen." \nVariety\n\n"Eine philosophische Betrach
 tung\, bei der es um etwas geht - ein Film über den Sinn des Lebens\, nic
 ht weniger  mit einer introvertierten\, ungemein sympathischen Darstellung
  von Koji Yakusho."\nScreen InternationalJapan 2023\, 123 Min.\, ab 6 J.\,
  R: Wim Wenders\, mit: Koji Yakusho\, Yumi Asô\, Tokio Emoto\, Sayuri Ish
 ikawa\, 
CATEGORIES:Kino, Film
LOCATION:Apollo Kino\, Limmerstraße 50\, Hannover\, 30451\, Linden-Nord\, 
 Deutschland
GEO:52.37383;9.70702
X-APPLE-STRUCTURED-LOCATION;VALUE=URI;X-ADDRESS=Limmerstraße 50\, Hannover
 \, 30451\, Linden-Nord\, Deutschland;X-APPLE-RADIUS=100;X-TITLE=Apollo Kin
 o:geo:52.37383,9.70702
END:VEVENT
BEGIN:VTIMEZONE
TZID:Europe/Berlin
X-LIC-LOCATION:Europe/Berlin
BEGIN:DAYLIGHT
DTSTART:20250330T030000
TZOFFSETFROM:+0100
TZOFFSETTO:+0200
TZNAME:CEST
END:DAYLIGHT
END:VTIMEZONE
END:VCALENDAR