BEGIN:VCALENDAR
VERSION:2.0
PRODID:-//wp-events-plugin.com//5.99912//EN
TZID:Europe/Berlin
X-WR-TIMEZONE:Europe/Berlin
BEGIN:VEVENT
UID:62450@punkt-linden.de
DTSTART;TZID=Europe/Berlin:20260322T140000
DTEND;TZID=Europe/Berlin:20260322T140000
DTSTAMP:20260310T100010Z
URL:https://punkt-linden.de/termine/4heididie-legende-vom-luchs-2025/
SUMMARY:Heidi - Die Legende vom Luchs (2025)
DESCRIPTION:Die temperamentvolle Heidi lebt bei ihrem grummeligen Großvate
 r Alm-Öhi in einer zurückgezogenen Berghütte in den Schweizer Alpen. He
 idi hat Ferien und wünscht sich nichts sehnlicher\, als ihre Freundin Cla
 ra beim Urlaub an der Ostsee zu besuchen. Doch der Fund eines einsamen und
  verletzten Luchs-Kätzchens ändert ihre Pläne: Das Luchs-Junge muss dri
 ngend zurück in die Berge zu seiner Familie! Ohne Großvaters Wissen küm
 mert sich Heidi liebevoll um ihren neuen kleinen Freund. Wenn nur nicht de
 r geldgierige Geschäftsmann Schnaittinger wäre\, der in der wunderschön
 en Berglandschaft ein großes Sägewerk errichten möchte und Fallen für 
 die Luchse aufgestellt hat. Nun ist es an Heidi und ihrem besten Freund Pe
 ter\, nicht nur das süße Luchs-Junge und seine Familie\, sondern auch di
 e Dorfgemeinschaft und die heimische Natur\, die sie so liebt\, zu retten.
 Deutschland Spanien Belgien 2025\, 79 Min.\, ab 0 J.\, R: Tobias Schwarz -
  Titelsong gesungen von Claudia Koreck\, 
CATEGORIES:Kino, Film
LOCATION:Apollo Kino\, Limmerstraße 50\, Hannover\, 30451\, Linden-Nord\, 
 Deutschland
GEO:52.37383;9.70702
X-APPLE-STRUCTURED-LOCATION;VALUE=URI;X-ADDRESS=Limmerstraße 50\, Hannover
 \, 30451\, Linden-Nord\, Deutschland;X-APPLE-RADIUS=100;X-TITLE=Apollo Kin
 o:geo:52.37383,9.70702
END:VEVENT
BEGIN:VTIMEZONE
TZID:Europe/Berlin
X-LIC-LOCATION:Europe/Berlin
BEGIN:STANDARD
DTSTART:20251026T020000
TZOFFSETFROM:+0200
TZOFFSETTO:+0100
TZNAME:CET
END:STANDARD
END:VTIMEZONE
END:VCALENDAR