BEGIN:VCALENDAR
VERSION:2.0
PRODID:-//wp-events-plugin.com//5.99912//EN
TZID:Europe/Berlin
X-WR-TIMEZONE:Europe/Berlin
BEGIN:VEVENT
UID:61493@punkt-linden.de
DTSTART;TZID=Europe/Berlin:20251228T160000
DTEND;TZID=Europe/Berlin:20251228T160000
DTSTAMP:20251216T100011Z
URL:https://punkt-linden.de/termine/4gabbys-dollhouse-der-film/
SUMMARY:Gabbys Dollhouse: Der Film
DESCRIPTION:Der große Katzenspaß für alle! Das wird MIAUFREGEND UND KATZ
 TASTISCH!\nGabby macht einen Roadtrip mit ihrer Oma Gigi in das urbane Wun
 derland Cat Francisco. Doch als Gabbys Puppenhaus\, ihr wertvollster Besit
 z\, in den Händen einer exzentrischen Katzendame namens Vera landet\, beg
 ibt sich Gabby auf ein Abenteuer in der realen Welt\, um die Gabby Cats wi
 eder zusammenzubringen und das Puppenhaus zu retten\, bevor es zu spät is
 t.\nSchnell muss Gabby all ihre cleveren Kätzchen zusammentrommeln\, um m
 it Hilfe der kleinen Freunde ihren kostbarsten Besitz zu retten.\nFür Vor
 schulkinder erdacht\, beginnt GABBYS DOLLHOUSE mit dem Auspacken einer gan
 z besonderen Überraschung\, bevor es aus der realen in eine wunderbar ani
 mierte Welt voller niedlicher Katzen springt\, die alle in Gabbys Puppenha
 us leben. \n\nUSA 2025\, 85 min.\, ab 0 J.\, R: Ryan Crego\, mit: Laila Lo
 ckhart Kraner\, Gloria Estefan\, Kristen Wiig 
CATEGORIES:Kino, Film
LOCATION:Apollo Kino\, Limmerstraße 50\, Hannover\, 30451\, Linden-Nord\, 
 Deutschland
GEO:52.37383;9.70702
X-APPLE-STRUCTURED-LOCATION;VALUE=URI;X-ADDRESS=Limmerstraße 50\, Hannover
 \, 30451\, Linden-Nord\, Deutschland;X-APPLE-RADIUS=100;X-TITLE=Apollo Kin
 o:geo:52.37383,9.70702
END:VEVENT
BEGIN:VTIMEZONE
TZID:Europe/Berlin
X-LIC-LOCATION:Europe/Berlin
BEGIN:STANDARD
DTSTART:20251026T020000
TZOFFSETFROM:+0200
TZOFFSETTO:+0100
TZNAME:CET
END:STANDARD
END:VTIMEZONE
END:VCALENDAR