BEGIN:VCALENDAR
VERSION:2.0
PRODID:-//wp-events-plugin.com//5.99912//EN
TZID:Europe/Berlin
X-WR-TIMEZONE:Europe/Berlin
BEGIN:VEVENT
UID:60872@punkt-linden.de
DTSTART;TZID=Europe/Berlin:20251018T180000
DTEND;TZID=Europe/Berlin:20251018T180000
DTSTAMP:20251006T090010Z
URL:https://punkt-linden.de/termine/3vier-muetter-fuer-edward/
SUMMARY:Vier Mütter für Edward
DESCRIPTION:Publikumspreis beim Filmfest London!\nDiese herzerwärmende und
  liebevolle Komödie begleitet eine ungewöhnliche Wahlfamilie\, die lernt
 \, das Leben in all seinen Facetten zu umarmen. \nEdward ist Schriftstelle
 r\, Mitte Dreißig und steht endlich kurz vor seinem literarischen Durchbr
 uch. Wenn da nicht seine Mutter wäre\, mit der er zusammenwohnt und um di
 e er sich liebevoll kümmert. Die willensstarke Dame hat einen entwaffnend
 en Charme  und ihre sehr eigenen Vorstellungen vom Zusammenleben mit ihrem
  Sohn. Und dann ist da noch Edwards Verlag\, der ihn auf eine große Leser
 eise in die USA schicken will. Das Letzte\, was er jetzt brauchen kann\, s
 ind seine besten Freunde\, die spontan zu einem Pride-Urlaub nach Spanien 
 aufbrechen und ihre Mütter kurzerhand auch noch bei ihm abladen. An einem
  turbulenten Wochenende muss Edward seine aufstrebende Karriere und die Be
 treuung von vier exzentrischen\, streitlustigen und vollkommen unterschied
 lichen Damen unter einen Hut bringen.\n\n\n"Herzerwärmend - bringt das Pu
 blikum zum Lachen und Weinen"\nLoud and Clear\n\n"Eine unwiderstehliche Ko
 mödie"\nAttitude\n\n"Diese irische Ode an ältere Damen ist wie eine gro
 ße warme Umarmung"\nCityAM\n\n"Eine leichte\, charmante irische Komödie\
 , die mit Zärtlichkeit den Herzschmerz einer Familie erzählt."\nDeadline
 Irland 2024\, 89 Min.\, ab 0 J.\, R: Darren Thornton\, mit: James McArdle\
 , Fionnula Flanagan\, Dearbhla Molloy\, Stalle McCusker
CATEGORIES:Kino, Film
LOCATION:Apollo Kino\, Limmerstraße 50\, Hannover\, 30451\, Linden-Nord\, 
 Deutschland
GEO:52.37383;9.70702
X-APPLE-STRUCTURED-LOCATION;VALUE=URI;X-ADDRESS=Limmerstraße 50\, Hannover
 \, 30451\, Linden-Nord\, Deutschland;X-APPLE-RADIUS=100;X-TITLE=Apollo Kin
 o:geo:52.37383,9.70702
END:VEVENT
BEGIN:VTIMEZONE
TZID:Europe/Berlin
X-LIC-LOCATION:Europe/Berlin
BEGIN:DAYLIGHT
DTSTART:20250330T030000
TZOFFSETFROM:+0100
TZOFFSETTO:+0200
TZNAME:CEST
END:DAYLIGHT
END:VTIMEZONE
END:VCALENDAR