BEGIN:VCALENDAR
VERSION:2.0
PRODID:-//wp-events-plugin.com//5.99912//EN
TZID:Europe/Berlin
X-WR-TIMEZONE:Europe/Berlin
BEGIN:VEVENT
UID:62547@punkt-linden.de
DTSTART;TZID=Europe/Berlin:20260403T160000
DTEND;TZID=Europe/Berlin:20260403T160000
DTSTAMP:20260322T100010Z
URL:https://punkt-linden.de/termine/3spongebob-schwammkopfpiraten-ahoi/
SUMMARY:SPONGEBOB SCHWAMMKOPF - Piraten Ahoi!
DESCRIPTION:Die Geschichte folgt SpongeBob\, der in die Tiefen des Ozeans r
 eist und gegen den Geist des Fliegenden Holländers antritt.\nWer wohnt in
  einer Ananas ganz tief im Meer Diese Frage kann wohl jeder\, der in den f
 rühen 2000ern seine Kindheit verbracht hat\, im Schlaf beantworten: Spong
 eBob Schwammkopf! \nIn ihrem brandneuen und bisher größten Kinoabenteuer
  stechen SpongeBob und seine Freunde aus Bikini Bottom in See. SpongeBob h
 at es sich diesmal in den Kopf gesetzt\, endlich zu den GROSSEN zu gehöre
 n - und will seinem Chef Mr. Krabs beweisen\, dass mehr in ihm steckt\, al
 s man denkt.\nSein Ziel: Der Fliegende Holländer - der legendäre\, geist
 erhafte Pirat der Meere\, um den sich viele Mythen ranken. Was folgt\, ist
  eine rasante und urkomische Seefahrt\, die SpongeBob in die tiefsten Tief
 en der Tiefsee führt - oder wie der Trailer es formuliert: Dorthin\, wo n
 och kein Schwamm zuvor gewesen ist. Mr. Krabs macht anhand seiner alten (U
 nterwasser-)Landkarte sogar klar: Sie sind in der Unterwelt angekommen!USA
  2025\, 88 Min.\, ab 0 J.\, Regie: Derek Drymon
CATEGORIES:Kino, Film
LOCATION:Apollo Kino\, Limmerstraße 50\, Hannover\, 30451\, Linden-Nord\, 
 Deutschland
GEO:52.37383;9.70702
X-APPLE-STRUCTURED-LOCATION;VALUE=URI;X-ADDRESS=Limmerstraße 50\, Hannover
 \, 30451\, Linden-Nord\, Deutschland;X-APPLE-RADIUS=100;X-TITLE=Apollo Kin
 o:geo:52.37383,9.70702
END:VEVENT
BEGIN:VTIMEZONE
TZID:Europe/Berlin
X-LIC-LOCATION:Europe/Berlin
BEGIN:DAYLIGHT
DTSTART:20260329T030000
TZOFFSETFROM:+0100
TZOFFSETTO:+0200
TZNAME:CEST
END:DAYLIGHT
END:VTIMEZONE
END:VCALENDAR