BEGIN:VCALENDAR
VERSION:2.0
PRODID:-//wp-events-plugin.com//5.99912//EN
TZID:Europe/Berlin
X-WR-TIMEZONE:Europe/Berlin
BEGIN:VEVENT
UID:62051@punkt-linden.de
DTSTART;TZID=Europe/Berlin:20260214T153000
DTEND;TZID=Europe/Berlin:20260214T153000
DTSTAMP:20260202T100010Z
URL:https://punkt-linden.de/termine/3pumuckl-und-das-groe-missverstaendnis
 /
SUMMARY:Pumuckl und das große Missverständnis
DESCRIPTION:Der neue große Pumuckl-Kinofilm\, so herzig!\nPumuckl neckt\, 
 Pumuckl versteckt und niemand was meckt: Der Kobold mit dem roten Haar und
  der groooßen Vorliebe für Schabernack ist zurück!\nEine Schildkröte\,
  ein Ausflug aufs Land und dann auch noch Nachbar Burkes Geburtstag: Bei P
 umuckl und Eder ist in diesem Sommer ganz schön viel los! Zu viel viellei
 cht - denn bei so vielen Ereignissen schaffen es die beiden kaum noch\, or
 dentlich miteinander zu sprechen. Zwischen Eder und Pumuckl kommt es zu ei
 nem großen Missverständnis und die beschauliche Welt der beiden droht au
 seinanderzubrechen.\n\n"Inszenierung mit einem warmherzigen\, nostalgische
 n Flair"\nDer Tagesspiegel\n\n"Ein richtig guter Kinderfilm"\nSZD 2025\, 9
 8 Min.\, ab 0 J.\, R: Marcus H. Rosenmüller\, mit: Florian Brückner\, Ma
 ximilian Schafroth\, Matthias Bundschuh\, Gisela Schneeberger\, Ilse Neuba
 uer\, Frederic Linkemann\, Robert Palfrader\, Anja Knauer u.v.m.
CATEGORIES:Kino, Film
LOCATION:Apollo Kino\, Limmerstraße 50\, Hannover\, 30451\, Linden-Nord\, 
 Deutschland
GEO:52.37383;9.70702
X-APPLE-STRUCTURED-LOCATION;VALUE=URI;X-ADDRESS=Limmerstraße 50\, Hannover
 \, 30451\, Linden-Nord\, Deutschland;X-APPLE-RADIUS=100;X-TITLE=Apollo Kin
 o:geo:52.37383,9.70702
END:VEVENT
BEGIN:VTIMEZONE
TZID:Europe/Berlin
X-LIC-LOCATION:Europe/Berlin
BEGIN:STANDARD
DTSTART:20251026T020000
TZOFFSETFROM:+0200
TZOFFSETTO:+0100
TZNAME:CET
END:STANDARD
END:VTIMEZONE
END:VCALENDAR