BEGIN:VCALENDAR
VERSION:2.0
PRODID:-//wp-events-plugin.com//5.99912//EN
TZID:Europe/Berlin
X-WR-TIMEZONE:Europe/Berlin
BEGIN:VEVENT
UID:62861@punkt-linden.de
DTSTART;TZID=Europe/Berlin:20260502T223000
DTEND;TZID=Europe/Berlin:20260502T223000
DTSTAMP:20260420T090013Z
URL:https://punkt-linden.de/termine/3princess-mononoke-japan-omu/
SUMMARY:PRINCESS MONONOKE-japan. OmU
DESCRIPTION:Restauriert zurück im Kino begeistert der Studio GHIBLI - Klas
 siker nach wie vor durch seine tiefgründige Erzählweise und seine präch
 tigen Bilder - erstmals in OmU!\nHayao Miyazakis PRINZESSIN MONONOKE ist e
 in Meilenstein der Animationskunst und ein Film von unübertroffener Kraft
  und Schönheit. Eine epische Geschichte von Konflikten zwischen Menschen\
 , Göttern und der Natur.\nEin Dämon in Form eines riesenhaften Ebers bri
 cht aus dem Wald und greift das Dorf von Ashitaka an. Der tapfere junge Kr
 ieger erlegt den Eber\, trägt aber eine Wunde davon\, die sich immer tief
 er in seinen Körper fressen und ihn töten\, oder schlimmer noch\, selbst
  zu einem Dämon verwandeln wird. Auf der Suche nach dem Ursprung dieses a
 nsteckenden Zorns und nach Heilung trifft Ashitaka auf eine Eisenhütte un
 d deren Herrin Eboshi. Diese lässt Bäume fällen um Erz abbauen zu könn
 en\, und schreckt dabei auch nicht davor zurück sich gegen die Tiere des 
 Waldes mit der neuen Er&#64257\;ndung des Schießpulvers zu behaupten. Die
  Tiere und deren Götter sammeln sich nun zum aussichtslosen letzten Gefec
 ht gegen die Zivilisation.\n\n"Der majestätische Bilderspektakel  keine W
 aldlandschaft war jemals so unauslöschlich und dimensional lebendig  ist 
 untrennbar mit den vielfältigen spirituellen/ökologischen Fragen über d
 ie Zukunft verbunden\, über die Miyazaki nachdenkt."\nSan Francisco Exami
 nerJapan 1997\, 134 Min. (+-\,50)\, ab 12 J.\, R: Hayao Miyazaki |
CATEGORIES:Kino, Film
LOCATION:Apollo Kino\, Limmerstraße 50\, Hannover\, 30451\, Linden-Nord\, 
 Deutschland
GEO:52.37383;9.70702
X-APPLE-STRUCTURED-LOCATION;VALUE=URI;X-ADDRESS=Limmerstraße 50\, Hannover
 \, 30451\, Linden-Nord\, Deutschland;X-APPLE-RADIUS=100;X-TITLE=Apollo Kin
 o:geo:52.37383,9.70702
END:VEVENT
BEGIN:VTIMEZONE
TZID:Europe/Berlin
X-LIC-LOCATION:Europe/Berlin
BEGIN:DAYLIGHT
DTSTART:20260329T030000
TZOFFSETFROM:+0100
TZOFFSETTO:+0200
TZNAME:CEST
END:DAYLIGHT
END:VTIMEZONE
END:VCALENDAR