BEGIN:VCALENDAR
VERSION:2.0
PRODID:-//wp-events-plugin.com//5.99912//EN
TZID:Europe/Berlin
X-WR-TIMEZONE:Europe/Berlin
BEGIN:VEVENT
UID:59919@punkt-linden.de
DTSTART;TZID=Europe/Berlin:20250711T174500
DTEND;TZID=Europe/Berlin:20250711T174500
DTSTAMP:20250629T090011Z
URL:https://punkt-linden.de/termine/3oslo-stories-traeume/
SUMMARY:Oslo Stories: TRÄUME
DESCRIPTION:GOLDENER BÄR - Bester Film - Filmfstspiele Berlin!\nJohanne ve
 rliebt sich zum ersten Mal\, und zwar in ihre Lehrerin. Ihre intensiven Fa
 ntasien und Gefühle hält sie schriftlich fest\, um sie nicht zu vergesse
 n. Als ihre Mutter und Großmutter die Texte lesen\, sind sie zunächst sc
 hockiert über den intimen Inhalt\, erkennen aber bald das literarische Po
 tenzial. Während sie darüber debattieren\, ob sie es veröffentlichen so
 llen\, werden alle drei Frauen mit ihren eigenen unerfüllten Träumen und
  Sehnsüchten konfrontiert.\n\nJeder einzelne Film der drei OSLO STORIES i
 st ein eigenständiger Film. Jeder wirft einen anderen Blick auf die Dinge
 \, die unser Leben bestimmen. Die Filme erzählen von Liebe\, Sehnsucht un
 d Träumen\, hinterfragen Identität\, Gender und Sexualität\, entwerfen 
 mit faszinierenden Charakteren und klugen Dialogen gewitzt und nahbar Utop
 ien\, wie wir auch zusammenleben könnten.\n\n"Unaufdringlich und kraftvol
 l"\nFilmmagasinet\n\nEin richtiger Film zur richtigen Zeit \nDIE WELT\n\nF
 einstes Kino \nABENDZEITUNG\n\nEinfühlsam und zart\nSüddeutsche Zeitung\
 n\nFederleichtes Generationsstück\nFrankfurter Rundschau\n\nHinreißend u
 naufgeregt"\n3sat Kino Kino\nNO 2024\, 110 Min.\, ab 12 J.\, R: Dag Johan 
 Haugerud \, mit: Ella Øverbye\, Ane Dahl Torp\, Selome Emnetu 
CATEGORIES:Kino, Film
LOCATION:Apollo Kino\, Limmerstraße 50\, Hannover\, 30451\, Linden-Nord\, 
 Deutschland
GEO:52.37383;9.70702
X-APPLE-STRUCTURED-LOCATION;VALUE=URI;X-ADDRESS=Limmerstraße 50\, Hannover
 \, 30451\, Linden-Nord\, Deutschland;X-APPLE-RADIUS=100;X-TITLE=Apollo Kin
 o:geo:52.37383,9.70702
END:VEVENT
BEGIN:VTIMEZONE
TZID:Europe/Berlin
X-LIC-LOCATION:Europe/Berlin
BEGIN:DAYLIGHT
DTSTART:20250330T030000
TZOFFSETFROM:+0100
TZOFFSETTO:+0200
TZNAME:CEST
END:DAYLIGHT
END:VTIMEZONE
END:VCALENDAR