BEGIN:VCALENDAR
VERSION:2.0
PRODID:-//wp-events-plugin.com//5.99912//EN
TZID:Europe/Berlin
X-WR-TIMEZONE:Europe/Berlin
BEGIN:VEVENT
UID:61011@punkt-linden.de
DTSTART;TZID=Europe/Berlin:20251102T140000
DTEND;TZID=Europe/Berlin:20251102T140000
DTSTAMP:20251021T090010Z
URL:https://punkt-linden.de/termine/3neues-von-pettersson-und-findus/
SUMMARY:Neues von Pettersson und Findus
DESCRIPTION:\n Zeichentrickfilm nach den Büchern von Sven Nordqvist!\nDer 
 alte Kauz Pettersson ermahnt eines Tages seinen drolligen Kater Findus\, i
 n Zukunft doch etwas ordentlicher zu sein. Daraufhin entschließt sich Fin
 dus\, dem König einen Brief zu schreiben\, mit der Bitte\, Pettersson zu 
 überzeugen\, daß kleine Katzen auf keinen Fall Ordnung halten müssen. W
 ährend Findus auf eine Antwort des Königs wartet\, bekommen er und Pette
 rsson gar wundersamen Besuch... von einer lauten\, hungrigen Maus\, einem 
 coolen Tiger\, Hühnern aus dem Weltall (!) und einem längst vergessenen 
 Verwandten...\n  Schweden 2000 R: Torbjörn Jansson\, Albert Hanan Kaminsk
 i  L&auml\;nge: 79 Min 
CATEGORIES:Kino, Film
LOCATION:Apollo Kino\, Limmerstraße 50\, Hannover\, 30451\, Linden-Nord\, 
 Deutschland
GEO:52.37383;9.70702
X-APPLE-STRUCTURED-LOCATION;VALUE=URI;X-ADDRESS=Limmerstraße 50\, Hannover
 \, 30451\, Linden-Nord\, Deutschland;X-APPLE-RADIUS=100;X-TITLE=Apollo Kin
 o:geo:52.37383,9.70702
END:VEVENT
BEGIN:VTIMEZONE
TZID:Europe/Berlin
X-LIC-LOCATION:Europe/Berlin
BEGIN:STANDARD
DTSTART:20251026T020000
TZOFFSETFROM:+0200
TZOFFSETTO:+0100
TZNAME:CET
END:STANDARD
END:VTIMEZONE
END:VCALENDAR