BEGIN:VCALENDAR
VERSION:2.0
PRODID:-//wp-events-plugin.com//5.99912//EN
TZID:Europe/Berlin
X-WR-TIMEZONE:Europe/Berlin
BEGIN:VEVENT
UID:62120@punkt-linden.de
DTSTART;TZID=Europe/Berlin:20260219T223000
DTEND;TZID=Europe/Berlin:20260219T223000
DTSTAMP:20260207T100012Z
URL:https://punkt-linden.de/termine/3lost-highwayengl-omu/
SUMMARY:LOST HIGHWAY - engl. OmU
DESCRIPTION:Von David Lynch! "Verstörende\, äußerst komplexe Reise ins U
 nheimliche\, die mit den Mitteln der Verrätselung und des Horrorfilms den
  Zuschauer in Bann schlägt. Ein filmisches Meisterwerk..."\n\nDie Ehe des
  Jazz-Saxophonisten Fred Madison ist am Abgrund. Als er nach einer Party f
 estgenommen wird und des Mordes seiner Frau Renee beschuldigt wird\, lande
 t er in der Todeszelle. Geplagt von starken Kopfschmerzen und Visionen des
  Mystery Mans\, verwandelt sich Fred in den Automechaniker Pete Dayton. Di
 e Wärter\, die den unschuldigen Fremden in der Zelle finden\, müssen Pet
 e gehen lassen. Doch es stellt sich bald raus\, dass alle\, gefangen in ih
 rem eigenen Schicksal\, verloren sind ...auf dem Lost Highway. Lost Highwa
 y trägt unverkennbar David Lynchs ganz eigene Handschrift und gilt als We
 gbereiter für den kurze Zeit später veröffentlichten und gefeierten Mul
 holland Drive (2001). Für den typisch mysteriösen Lynch-Sound sorgte sei
 n langjähriger künstlerischer Wegbegleiter Angelo Badalamenti\, der zu d
 iesem Zeitpunkt längst kein Unbekannter beim Publikum war: hatte er doch 
 unter anderem schon die unvergesslichen Klänge zu Lynchs Kultserie "Das G
 eheimnis von Twin Peaks" (1990-1991) beigesteuert.\nSeine intensive Wirkun
 g bezieht er sowohl aus einer rätselhaften\, psychologisch dichten Handlu
 ng als auch aus einer ausdrucksstarken\, surrealistischen Bildsprache.\n\n
 [eine] Achterbahnfahrt []\, Momente reinen Filmemachens []\, eine Meisters
 chaft über Bild und Ton\, wie sie seit Blue Velvet nicht mehr zu sehen / 
 zu hören war \n Chicago ReaderUSA 1997\, 135 Min. (+-\,50)\, FSK 16 J.\, 
 R: David Lynch\, mit: Bill Pullman\, Patricia Arquette\, Balthazar Getty\,
  Robert Logg
CATEGORIES:Kino, Film
LOCATION:Apollo Kino\, Limmerstraße 50\, Hannover\, 30451\, Linden-Nord\, 
 Deutschland
GEO:52.37383;9.70702
X-APPLE-STRUCTURED-LOCATION;VALUE=URI;X-ADDRESS=Limmerstraße 50\, Hannover
 \, 30451\, Linden-Nord\, Deutschland;X-APPLE-RADIUS=100;X-TITLE=Apollo Kin
 o:geo:52.37383,9.70702
END:VEVENT
BEGIN:VTIMEZONE
TZID:Europe/Berlin
X-LIC-LOCATION:Europe/Berlin
BEGIN:STANDARD
DTSTART:20251026T020000
TZOFFSETFROM:+0200
TZOFFSETTO:+0100
TZNAME:CET
END:STANDARD
END:VTIMEZONE
END:VCALENDAR