BEGIN:VCALENDAR
VERSION:2.0
PRODID:-//wp-events-plugin.com//5.99912//EN
TZID:Europe/Berlin
X-WR-TIMEZONE:Europe/Berlin
BEGIN:VEVENT
UID:59571@punkt-linden.de
DTSTART;TZID=Europe/Berlin:20250530T224500
DTEND;TZID=Europe/Berlin:20250530T224500
DTSTAMP:20250518T090009Z
URL:https://punkt-linden.de/termine/3juror2/
SUMMARY:Juror #2
DESCRIPTION:In Clint Eastwoods Gerichtsthriller wird Nicholas Hoult in die 
 Jury eines großen Mordfalls berufen und muss feststellen\, dass er mehr m
 it dem Fall zu tun hat\, als anfangs angenommen.\nBewegendes Kino für Her
 z und Kopf. Ein starkes Plädoyer für klassiches Erzählkino. Urteil: Ers
 tklassig.\nVorzüglicher Film () Das Gerichtsdrama ist ausgetüftelt. Gena
 u besehen\, erzählt der obrigkeitskritische Filmemacher vom gespaltenen A
 merika.\nNeue Zürcher Zeitung\n\nMeisterwerk - Clint Eastwood legt einen 
 neuen\, großartigen Film vor  mit 94 Jahren.\nSpiegel.de\n\nMeisterstück
  über Schuld\, Sühne und die Untiefen des US-Justizsystems\nSZ\n\nPacken
 des Justizdrama\nHAZ\nUSA 2024\, 116 Min.\, ab 12 J.\, R: Clint Eastwood (
 Gran Torino\, Erbarmungslos\, Bird)\, mit: Nicholas Hoult (The Favourite\,
  Nosferatu-der Untote)\, Zoey Deutch\, Kiefer Sutherland (Melancholia\, Di
 e Kriegerin\, Die Jury)\, Toni Collette (Ganz weit hinten\, Little Miss Su
 nshine)\, J.K. Simmons u.a.
CATEGORIES:Kino, Film
LOCATION:Apollo Kino\, Limmerstraße 50\, Hannover\, 30451\, Linden-Nord\, 
 Deutschland
GEO:52.37383;9.70702
X-APPLE-STRUCTURED-LOCATION;VALUE=URI;X-ADDRESS=Limmerstraße 50\, Hannover
 \, 30451\, Linden-Nord\, Deutschland;X-APPLE-RADIUS=100;X-TITLE=Apollo Kin
 o:geo:52.37383,9.70702
END:VEVENT
BEGIN:VTIMEZONE
TZID:Europe/Berlin
X-LIC-LOCATION:Europe/Berlin
BEGIN:DAYLIGHT
DTSTART:20250330T030000
TZOFFSETFROM:+0100
TZOFFSETTO:+0200
TZNAME:CEST
END:DAYLIGHT
END:VTIMEZONE
END:VCALENDAR