BEGIN:VCALENDAR
VERSION:2.0
PRODID:-//wp-events-plugin.com//5.99912//EN
TZID:Europe/Berlin
X-WR-TIMEZONE:Europe/Berlin
BEGIN:VEVENT
UID:62124@punkt-linden.de
DTSTART;TZID=Europe/Berlin:20260220T223000
DTEND;TZID=Europe/Berlin:20260220T223000
DTSTAMP:20260208T100011Z
URL:https://punkt-linden.de/termine/3fargo/
SUMMARY:FARGO
DESCRIPTION:Vor THREE BILLBOARDS OUTSIDE EBBING\, MISSOURI gewann FRANCES M
 C DERMAND bereits einen OSCAR als Beste Hauptdarstellerin!!!\n2 OSCARS\, u
 .a. für FRANCES MC DERMAND als Beste Hauptdarstellerin!\nRegiepreis bei d
 en Filmfestspelen in Cannes!\nEin echter Coen  witzig\, dramatisch\, spann
 end\, gut und jetzt wieder auf der Kinoleinwand zu erleben!\nEs könnte de
 r Plan zum perfekten Verbrechen sein: Der abgebrannte Autoverkäufer Jerry
  Lundsgaard engagiert zwei Galgenvögel\, die seine Ehefrau entführen und
  vom ebenso reichen Schwiegervater ein Lösegeld erpressen sollen.\nDoch d
 ie beiden Schmalspur Ganster\, der eine ein hypernervöses Wrack\, der and
 ere ein schweigsamer Psychopath\, gehen derart stümperhaft zu Werke\, da
 ß plötzlich drei Menschen tot in der verschneiten Einöde Minnesotas lie
 gen.\nEin Fall für Marge Gunderson. Die hochschwangere Polizistin nimmt d
 ie Spur auf - Blutstropfen für Blutstropfen...\n\n"Nie haben die Coen-Br
 üder eine Geschichte (von der sie heimtückischerweise behaupten\, daß s
 ie eine wahre und aktenkundige sei) so detailreich\, so lakonisch\, so lie
 bevoll und so wenig von oben herab erzählt\, auch so entspannt\, ja so me
 nschenfreundlich."\nSPIEGEL\n\nUSA 1996\, 97 Min.\, ab 16 J.\, R: Ethan + 
 Joel Coehn\, mit: Frances McDormand (Three Billbords...)\, William H. Macy
 \, Steve Buscemi
CATEGORIES:Kino, Film
LOCATION:Apollo Kino\, Limmerstraße 50\, Hannover\, 30451\, Linden-Nord\, 
 Deutschland
GEO:52.37383;9.70702
X-APPLE-STRUCTURED-LOCATION;VALUE=URI;X-ADDRESS=Limmerstraße 50\, Hannover
 \, 30451\, Linden-Nord\, Deutschland;X-APPLE-RADIUS=100;X-TITLE=Apollo Kin
 o:geo:52.37383,9.70702
END:VEVENT
BEGIN:VTIMEZONE
TZID:Europe/Berlin
X-LIC-LOCATION:Europe/Berlin
BEGIN:STANDARD
DTSTART:20251026T020000
TZOFFSETFROM:+0200
TZOFFSETTO:+0100
TZNAME:CET
END:STANDARD
END:VTIMEZONE
END:VCALENDAR