BEGIN:VCALENDAR
VERSION:2.0
PRODID:-//wp-events-plugin.com//5.99912//EN
TZID:Europe/Berlin
X-WR-TIMEZONE:Europe/Berlin
BEGIN:VEVENT
UID:61259@punkt-linden.de
DTSTART;TZID=Europe/Berlin:20251129T174500
DTEND;TZID=Europe/Berlin:20251129T174500
DTSTAMP:20251117T100010Z
URL:https://punkt-linden.de/termine/3downton-abbeydas-groe-finale/
SUMMARY:DOWNTON ABBEY - Das große Finale
DESCRIPTION:Der Film bringt Lady Mary auf die große Bühne - mit jeder Men
 ge Glamour\, alten Bekannten und einer letzten Verbeugung für Maggie Smit
 h - liebevoll und würdevoll\, wie sie es verdient hat.\nStil- und gefühl
 voll!\nDie 1930er-Jahre lassen ein neues Jahrzehnt anbrechen\, das für Ma
 ry mit einem öffentlichen Skandal beginnt. Als die Familie noch dazu in f
 inanzielle Schwierigkeiten gerät\, sieht sich der gesamte Haushalt mit de
 m drohenden sozialen Abstieg konfrontiert. Die Crawleys und ihre Dienersch
 aft müssen sich auf Veränderungen einstellen und ein neues Kapitel aufsc
 hlagen\, damit die nächste Generation Downton Abbey in die Zukunft führe
 n kann.\n\nBietet () alles auf\, was den Adels- und Domestiken-Kitsch so h
 errlich macht\nTagesspiegel\n\n"Zeigt\, dass englische Reaktionäre lustig
  sein können."\nSpiegel.deGB 2025\, 123 Min.\, ab 6 J.\, R: Simon Curtis\
 , mit: Hugh Bonneville\, Laura Carmichael\, Jim Carter u.a.
CATEGORIES:Kino, Film
LOCATION:Apollo Kino\, Limmerstraße 50\, Hannover\, 30451\, Linden-Nord\, 
 Deutschland
GEO:52.37383;9.70702
X-APPLE-STRUCTURED-LOCATION;VALUE=URI;X-ADDRESS=Limmerstraße 50\, Hannover
 \, 30451\, Linden-Nord\, Deutschland;X-APPLE-RADIUS=100;X-TITLE=Apollo Kin
 o:geo:52.37383,9.70702
END:VEVENT
BEGIN:VTIMEZONE
TZID:Europe/Berlin
X-LIC-LOCATION:Europe/Berlin
BEGIN:STANDARD
DTSTART:20251026T020000
TZOFFSETFROM:+0200
TZOFFSETTO:+0100
TZNAME:CET
END:STANDARD
END:VTIMEZONE
END:VCALENDAR