BEGIN:VCALENDAR
VERSION:2.0
PRODID:-//wp-events-plugin.com//5.99912//EN
TZID:Europe/Berlin
X-WR-TIMEZONE:Europe/Berlin
BEGIN:VEVENT
UID:61600@punkt-linden.de
DTSTART;TZID=Europe/Berlin:20260114T201500
DTEND;TZID=Europe/Berlin:20260114T201500
DTSTAMP:20260102T100010Z
URL:https://punkt-linden.de/termine/2wie-das-leben-manchmal-spielt/
SUMMARY:Wie das Leben manchmal spielt
DESCRIPTION:Louane Emera (Verstehen sie die Béliers) und Michel BLanc (Es 
 sind die kleinen Dinge) in einem \nberührenden und manchmal hinreißend k
 omischen Film über zweite Chancen\, stille Freundschaften und die zarte H
 offnung\, dass das Leben trotz aller widrigen Umstände immer noch etwas G
 utes bereithält.\nMarie-Line (Louane Emera)\, eine junge Kellnerin\, schl
 ägt sich gerade so durchs Leben.\nNach einem heftigen Streit mit ihrem Fr
 eund verliert sie nicht nur ihren Job\, sondern wird auch noch zu einer ho
 hen Geldstrafe verurteilt. Der zuständige Richter Gilles (Michel Blanc) -
  kurz vor dem Ruhestand\, desillusioniert und in seiner eigenen Welt leben
 d - erkennt in Marie-Line jedoch mehr als nur eine Akte. \n\n\n"Wie wäre 
 es mit einem kleinen französischen FEEL-GOOD-MOVIE"\nParis Match\n\n\n"Ei
 ne charmante Komödie\, in der die Melancholie stets hervorscheint"\nTeler
 ama\n\n\n"Sensible(...) Studie über Vorurteile\, stille Freundschaft und 
 die heilsame Kraft des Dialogs."\nFilmdienst\n\n\n"Wunderschönes Schauspi
 elerkino"\nKÖLNER STADTANZEIGER\n\n\n"Frisch und herzerwärmend erzählt"
 \nHAMBURGER MORGENPOSTFr 2025\, 104 Min.\, ab 12 J.\, R: Jean-Pierre Amér
 is (Die anonymen Romantiker)\, Louane Emera (Verstehen sie die Béliers)\,
  Michel Blanc (Es sind die kleinen Dinge)\, Victor Belmondo\, Fabien Giame
 luca 
CATEGORIES:Kino, Film
LOCATION:Apollo Kino\, Limmerstraße 50\, Hannover\, 30451\, Linden-Nord\, 
 Deutschland
GEO:52.37383;9.70702
X-APPLE-STRUCTURED-LOCATION;VALUE=URI;X-ADDRESS=Limmerstraße 50\, Hannover
 \, 30451\, Linden-Nord\, Deutschland;X-APPLE-RADIUS=100;X-TITLE=Apollo Kin
 o:geo:52.37383,9.70702
END:VEVENT
BEGIN:VTIMEZONE
TZID:Europe/Berlin
X-LIC-LOCATION:Europe/Berlin
BEGIN:STANDARD
DTSTART:20251026T020000
TZOFFSETFROM:+0200
TZOFFSETTO:+0100
TZNAME:CET
END:STANDARD
END:VTIMEZONE
END:VCALENDAR