BEGIN:VCALENDAR
VERSION:2.0
PRODID:-//wp-events-plugin.com//5.99912//EN
TZID:Europe/Berlin
X-WR-TIMEZONE:Europe/Berlin
BEGIN:VEVENT
UID:61396@punkt-linden.de
DTSTART;TZID=Europe/Berlin:20251218T201500
DTEND;TZID=Europe/Berlin:20251218T201500
DTSTAMP:20251206T100010Z
URL:https://punkt-linden.de/termine/2unter-den-straen-von-hannovereine-unt
 erirdische-geschichte/
SUMMARY:Unter den Straßen von Hannover - Eine unterirdische Geschichte
DESCRIPTION:Mittelalterliche Gänge\, Grabkammern\, Stollen\, Abwasserkanä
 le\, Fluchtgänge\, die nie eröffnete U-Bahn-Station unterm Kröpcke\, De
 r Kulturbunker in der 60er/70er Jahre unter dem Klagesmarkt\, der jetzt ab
 gerissen wird\, der aktuell betriebsbereite mit Konserven bepackte Bunker 
 unter Hauptbahnhof ...der "Hanebuth Gang" am Leineufer\, benannt nach dem 
 Räuber und Mörder Jasper Hanebuth\, der Eiskeller unter dem Lindener Ber
 g... Was an die Oberfläche gelangt\, sind Gerüchte und Ungewissheiten. I
 m Spannungsfeld zwischen nüchterner Funktionalität und phantastischer Le
 gendenbildung ist der Film Unter den Straßen von Hannover eine dokumentar
 ische Arbeit über die Geschichte und die Geschichten unterirdischer Bauwe
 rke in Hannover und ihren Beitrag zur Stadthistorie. D 2005\, R: Henning K
 lattenhoff\, Benjamin Bruns\, Produktion: Klaus Pfeifer\, Hollewood Media 
 OHG\nLänge: 45 Min (6\,50/5\,50)\, FSK: 6 
CATEGORIES:Kino, Film
LOCATION:Apollo Kino\, Limmerstraße 50\, Hannover\, 30451\, Linden-Nord\, 
 Deutschland
GEO:52.37383;9.70702
X-APPLE-STRUCTURED-LOCATION;VALUE=URI;X-ADDRESS=Limmerstraße 50\, Hannover
 \, 30451\, Linden-Nord\, Deutschland;X-APPLE-RADIUS=100;X-TITLE=Apollo Kin
 o:geo:52.37383,9.70702
END:VEVENT
BEGIN:VTIMEZONE
TZID:Europe/Berlin
X-LIC-LOCATION:Europe/Berlin
BEGIN:STANDARD
DTSTART:20251026T020000
TZOFFSETFROM:+0200
TZOFFSETTO:+0100
TZNAME:CET
END:STANDARD
END:VTIMEZONE
END:VCALENDAR