BEGIN:VCALENDAR
VERSION:2.0
PRODID:-//wp-events-plugin.com//5.99912//EN
TZID:Europe/Berlin
X-WR-TIMEZONE:Europe/Berlin
BEGIN:VEVENT
UID:60598@punkt-linden.de
DTSTART;TZID=Europe/Berlin:20250918T180000
DTEND;TZID=Europe/Berlin:20250918T180000
DTSTAMP:20250906T090010Z
URL:https://punkt-linden.de/termine/2ostpreuenentschwundene-welt-1912-bis-
 1945/
SUMMARY:Ostpreußen - Entschwundene Welt 1912 bis 1945
DESCRIPTION:Die Dokumentation ist eine Zusammenstellung von überwiegend pr
 ivaten Originalaufnahmen. So entsteht eine unglaubliche Zeitreise in ein L
 and\, das es so nicht mehr gibt.\nIm europäischen Abseits gelegen\, stamm
 t die älteste filmische Quelle zu Ostpreußen aus dem Jahr 1912. Sie zeig
 t die Landung des militärischen Prallluftschiffs PARSEVAL 3 in der Provin
 zhauptstadt Königsberg im Villenvorort Klein Amalienau. \nWeitere filmisc
 he Schätze:\nBesuch von Kaiser Wilhem II. 1913 in Königsberg zeigt. E\nK
 riegswirren 1914\nKönigsberg und die Samlandküste 1926\nDer Untergag Ost
 rueßens 1945\nDas der Film überhaut entstand\, ist das Ergebnis einer zw
 ölfjährigen Recherche der Produzenten. Denn in den deutschen staatlichen
  Archiven gibt es wenig Material.\nWas früher Ostpreußen war\, gehört h
 eute zu Polen\, Litauen und zum russischen Gebiet Kaliningrad. Wer dort he
 ute nach Spuren des alten Deutschlands sucht\, wird enttäuscht. \n\nFilme
 macher Hermann Pölking legt die Ideologie der historischen Bilder frei\, 
 die er montiert. Das macht seinen Dokumentarfilm interessant () sehr gesch
 ickt strukturiert und geschnitten\nTAZ\n\nViele Farbaufnahmen rücken die 
 Provinz in ein neues Licht.\nWeser Kurier\nD 2024/2025\, 103 Min.\, FSK 6 
 J.\, R: Hermann Pölking\, Sprecherin: Heidi Jürgens\, Sprecher: Peter K
 ämpfe\, 
CATEGORIES:Kino, Film
LOCATION:Apollo Kino\, Limmerstraße 50\, Hannover\, 30451\, Linden-Nord\, 
 Deutschland
GEO:52.37383;9.70702
X-APPLE-STRUCTURED-LOCATION;VALUE=URI;X-ADDRESS=Limmerstraße 50\, Hannover
 \, 30451\, Linden-Nord\, Deutschland;X-APPLE-RADIUS=100;X-TITLE=Apollo Kin
 o:geo:52.37383,9.70702
END:VEVENT
BEGIN:VTIMEZONE
TZID:Europe/Berlin
X-LIC-LOCATION:Europe/Berlin
BEGIN:DAYLIGHT
DTSTART:20250330T030000
TZOFFSETFROM:+0100
TZOFFSETTO:+0200
TZNAME:CEST
END:DAYLIGHT
END:VTIMEZONE
END:VCALENDAR