BEGIN:VCALENDAR
VERSION:2.0
PRODID:-//wp-events-plugin.com//5.99912//EN
TZID:Europe/Berlin
X-WR-TIMEZONE:Europe/Berlin
BEGIN:VEVENT
UID:60118@punkt-linden.de
DTSTART;TZID=Europe/Berlin:20250804T180000
DTEND;TZID=Europe/Berlin:20250804T180000
DTSTAMP:20250723T090010Z
URL:https://punkt-linden.de/termine/2mein-weg780-km-zu-mir/
SUMMARY:MEIN WEG - 780 KM zu mir
DESCRIPTION:Auf dem Jakobsweg...\nWie zum Teufel ist Bill Bennett bloß auf
  diese Idee gekommen\, den Jakobsweg zu gehen\n\nSein Kniegelenk ist nach 
 einem Sturz kaputt\, seine Frau daheim in Australien sorgt sich sehr\, und
  bei den Leuten\, die mit Bill pilgern\, eckt er immer wieder mit seiner s
 chroffen\, allzu direkten Art an. Und es sind noch über 700 Kilometer bis
  Santiago de Compostela\n\nJe weiter Bill den beschwerlichen Weg geht\, de
 sto mehr Menschen begegnen ihm\, die sich ihm gegenüber öffnen und ihre 
 Geschichten erzählen. So unterschiedlich diese sind: Sie alle nehmen ihn\
 , den grummeligen älteren Mann\, so wie er ist. Bill wird klar: Er darf k
 einesfalls aufgeben! Denn wenn er es bis zum Ziel schafft\, wird er ein an
 derer Mensch sein. Die 31 Tage auf der Pilgerroute verändern sein Leben f
 ür immer - Schritt für Schritt.\n\n"Feiert die einfachsten Freuden des L
 ebens: Wandern\, Reden\, Genießen" \n The Guardian\n\nAustralien 2024\, 1
 00 Min.\, ab 12 J.\, R: Bill Bennett\, mit: Chris Haywood\, Jennifer Cluff
 \, Laura Lakshmi\, Pia Thunderbolt 
CATEGORIES:Kino, Film
LOCATION:Apollo Kino\, Limmerstraße 50\, Hannover\, 30451\, Linden-Nord\, 
 Deutschland
GEO:52.37383;9.70702
X-APPLE-STRUCTURED-LOCATION;VALUE=URI;X-ADDRESS=Limmerstraße 50\, Hannover
 \, 30451\, Linden-Nord\, Deutschland;X-APPLE-RADIUS=100;X-TITLE=Apollo Kin
 o:geo:52.37383,9.70702
END:VEVENT
BEGIN:VTIMEZONE
TZID:Europe/Berlin
X-LIC-LOCATION:Europe/Berlin
BEGIN:DAYLIGHT
DTSTART:20250330T030000
TZOFFSETFROM:+0100
TZOFFSETTO:+0200
TZNAME:CEST
END:DAYLIGHT
END:VTIMEZONE
END:VCALENDAR