BEGIN:VCALENDAR
VERSION:2.0
PRODID:-//wp-events-plugin.com//5.99912//EN
TZID:Europe/Berlin
X-WR-TIMEZONE:Europe/Berlin
BEGIN:VEVENT
UID:62860@punkt-linden.de
DTSTART;TZID=Europe/Berlin:20260502T180000
DTEND;TZID=Europe/Berlin:20260502T180000
DTSTAMP:20260420T090013Z
URL:https://punkt-linden.de/termine/2horst-schlaemmer-sucht-das-glueck/
SUMMARY:Horst Schlämmer sucht das Glück
DESCRIPTION:Gegen die schlechte Laune: Horst Schlämmer auf der Suche nach 
 dem Glück\, weißte Bescheid\nEine der bekanntesten und beliebtesten Figu
 ren von HAPE KERKELING kehrt zurück auf die Kinoleinwand: Horst Schlämme
 r ist wieder da! Mit einer kinoreifen Mission. Er will den Menschen das L
 ächeln zurückbringen. Doch das ist leichter gesagt als getan. Denn wie w
 ird man eigentlich glücklich Der stellvertretende Chefredakteur des Greve
 nbroicher Tagblatts begibt sich auf eine Reise durch die Republik und tut 
 das\, was er am besten kann  knallhart recherchieren und nachfragen!\nHors
 t Schlämmer will den Leuten ihr Lächeln zurückbringen! Doch wie wird ma
 n glücklich Schwere Zeiten verlangen nach klaren Antworten  und weil man 
 die in Grevenbroich nicht finden kann\, begibt sich Horst Schlämmer auf d
 ie Reise seines Lebens: Von Süddeutschland bis Sylt\, von Berlin bis Büs
 um  per Anhalter\, Krabbenkutter oder Schienenersatzverkehr. Er trifft Pas
 santen\, Promis und Psychologen\, fragt knallhart nach und verliert\, trot
 z vieler Rückschläge\, nie seine Mission aus den Augen: Die Menschen wie
 der glücklich zu machen!\n\n"Es gibt einiges zu lachen (...) Übergriffig
 \, politisch unkorrekt und mit einem grunzenden Lachen versehen stieß Sch
 lämmer sein Publikum in immer neue Dimensionen wohligen Fremdschämens."\
 nHAZ\n\n"Eine Komödie\, wie sie in dieser reinen Form nur noch selten ged
 reht wird. Zugleich ist es intelligentes Kino"\nSpiegel.deD 2026\, 95 Min.
 \, ab 6 J.\, R: Sven Unterwaldt\, mit: Hape kerkeling\, Tahnee\, Meltem Ka
 ptan (Alter weisser Mann)\, Laura Thomas (Wissen macht AH!)
CATEGORIES:Kino, Film
LOCATION:Apollo Kino\, Limmerstraße 50\, Hannover\, 30451\, Linden-Nord\, 
 Deutschland
GEO:52.37383;9.70702
X-APPLE-STRUCTURED-LOCATION;VALUE=URI;X-ADDRESS=Limmerstraße 50\, Hannover
 \, 30451\, Linden-Nord\, Deutschland;X-APPLE-RADIUS=100;X-TITLE=Apollo Kin
 o:geo:52.37383,9.70702
END:VEVENT
BEGIN:VTIMEZONE
TZID:Europe/Berlin
X-LIC-LOCATION:Europe/Berlin
BEGIN:DAYLIGHT
DTSTART:20260329T030000
TZOFFSETFROM:+0100
TZOFFSETTO:+0200
TZNAME:CEST
END:DAYLIGHT
END:VTIMEZONE
END:VCALENDAR