BEGIN:VCALENDAR
VERSION:2.0
PRODID:-//wp-events-plugin.com//5.99912//EN
TZID:Europe/Berlin
X-WR-TIMEZONE:Europe/Berlin
BEGIN:VEVENT
UID:61252@punkt-linden.de
DTSTART;TZID=Europe/Berlin:20251128T224500
DTEND;TZID=Europe/Berlin:20251128T224500
DTSTAMP:20251116T100010Z
URL:https://punkt-linden.de/termine/2hassla-hainefranz-omu/
SUMMARY:HASS - LA HAINE - franz. OmU
DESCRIPTION:Zurück im Kino zum 30. Geburtstag!\nEin cinematisch stilvoller
  Klassiker des französischen Kinos\, der mit der Zeit an seiner Schärfe 
 nur zugenommen hat.\nProteste gegen die Polizeigewalt in Paris eskalieren.
  Mittendrinnen - Vinz\, Saïd und Hubert - drei Jugendliche aus der sozial
 schwachen Pariser Vorstadt. Gammeln rum\, tun nix und alles gleich - in nu
 r 24 Stunden. Ein cinematisch stilvoller Klassiker des französischen Kino
 s\, der mit der Zeit an seiner Schärfe nur zugenommen hat.\n\n24 Stunden 
 aus dem Leben von drei Jungs aus einer Pariser Vorstadt  ein Film\, der ti
 ckt wie eine Zeitbombe.\n\nIn den tristen Vierteln der Pariser Banlieus ha
 lten sich die arbeitslosen Jugendlichen Vinz\, Hubert und Said mit kleinen
  Drogendeals über Wasser und warten darauf\, dass sich etwas in ihrem Leb
 en ändert. Als ihr 16-jähriger arabischer Freund Abdel nach einem Polize
 iverhör im Krankenhaus mit dem Tode ringt\, brechen überall in den Traba
 ntenstädten Aufstände aus. Der junge Jude Vinz findet eine 44er Smith & 
 Wesson\, die ein Polizist während der Straßenschlachten verloren hat. St
 olz erklärt er seinen Freunden Hubert und Said\, dass er damit einen der 
 brutalen Flics töten wird. Endlich kann er seinem Hass gegen das System f
 reien Lauf lassen. Said und Hubert versuchen ihn zu mäßigen. Doch schon 
 bald eskalieren die Ereignisse...\n\n\n\n"Bedrängende Exkursion in das Le
 ben der Vorstädte (...) analysiert schonungslos die soziale Zeitbombe u. 
 verdichtet dabei ihre zentralen Themen von Gewalt und ihren Folgen\, Solid
 arität u. Ohnmacht in eindringlichen Bildern."-Lex. d. intern. FilmsFr 19
 95\, 96 Min.\, ab 12 J.\, R: Mathieu Kassovitz\, mit: Vincent Cassel\, Hub
 ert Koundé\, Saïd Taghmaoui\, Abdel Ahmed Ghili\, Joseph Momo\, Héloïs
 e Rauth\, Rywka Wajsbrot u.a.\, 
CATEGORIES:Kino, Film
LOCATION:Apollo Kino\, Limmerstraße 50\, Hannover\, 30451\, Linden-Nord\, 
 Deutschland
GEO:52.37383;9.70702
X-APPLE-STRUCTURED-LOCATION;VALUE=URI;X-ADDRESS=Limmerstraße 50\, Hannover
 \, 30451\, Linden-Nord\, Deutschland;X-APPLE-RADIUS=100;X-TITLE=Apollo Kin
 o:geo:52.37383,9.70702
END:VEVENT
BEGIN:VTIMEZONE
TZID:Europe/Berlin
X-LIC-LOCATION:Europe/Berlin
BEGIN:STANDARD
DTSTART:20251026T020000
TZOFFSETFROM:+0200
TZOFFSETTO:+0100
TZNAME:CET
END:STANDARD
END:VTIMEZONE
END:VCALENDAR