BEGIN:VCALENDAR
VERSION:2.0
PRODID:-//wp-events-plugin.com//5.99912//EN
TZID:Europe/Berlin
X-WR-TIMEZONE:Europe/Berlin
BEGIN:VEVENT
UID:59573@punkt-linden.de
DTSTART;TZID=Europe/Berlin:20250531T201500
DTEND;TZID=Europe/Berlin:20250531T201500
DTSTAMP:20250519T090009Z
URL:https://punkt-linden.de/termine/2element-of-crimewenn-es-dunkel-und-ka
 lt-wird-in-berlin/
SUMMARY:ELEMENT OF CRIME - Wenn es dunkel und kalt wird in Berlin
DESCRIPTION:Regisseur Charly Hübner erzählt die Geschichte und Gegenwart 
 der deutschen Band ELEMENT OF CRIME: Es geht um Musik\, Freundschaft\, ein
 e Haltung zur Welt und um das Geheimnis\, 40 Jahre Musik zusammen zu mache
 n. 1985 gegründet und ist seitdem aus der deutschen Musiklandschaft nicht
  mehr wegzudenken. Die Band gilt als die bekannteste unbekannte oder die u
 nbekannteste bekannte Band des deutschen Sprachraums.\nWas sind das für K
 ünstler Wie wurden sie zu dem\, was sie sind Regisseur Charly Hübner geh
 t diesen Fragen mit viel Feingefühl nach. Er folgt der Band auf einer Tou
 rnee durch Berlin\, die eigens für diesen Film organisiert wurde\, und f
 ührt uns zu Orten\, die stellvertretend für die Entwicklung der Band ste
 hen. Wir sehen die Mauerstadt Berlin\, erfahren von den wichtigsten Weggef
 ährten\, von New York\, John Cale\, London\, Düsseldorf\, Ata Tak\, dem 
 Ende der Neuen Deutschen Welle.\n\nDer Film eines Fans für Fans \nHAZ\n\n
 Eine Hommage an die großen Melancholiker des deutschen Pop und eine Verbe
 ugung vor der Musikstadt Berlin () warmherzige Beobachtung (..) irgendwie 
 gingen diese 90 Minuten viel zu schnell vorbei.\nRBB Radio Eins\n\n\n"Eine
  wunderbare Zeitreise"\nZDF heute Journal\nD 2024\, 95 Min.\, ab 12 J.\, R
 egie: Charly Hübner\, mit: Sven Regener\, Jakob Ilja\, Richard Pappik\, M
 arkus Runzheimer\, Rainer Theobald\, Ekki Bussch\, 
CATEGORIES:Kino, Film
LOCATION:Apollo Kino\, Limmerstraße 50\, Hannover\, 30451\, Linden-Nord\, 
 Deutschland
GEO:52.37383;9.70702
X-APPLE-STRUCTURED-LOCATION;VALUE=URI;X-ADDRESS=Limmerstraße 50\, Hannover
 \, 30451\, Linden-Nord\, Deutschland;X-APPLE-RADIUS=100;X-TITLE=Apollo Kin
 o:geo:52.37383,9.70702
END:VEVENT
BEGIN:VTIMEZONE
TZID:Europe/Berlin
X-LIC-LOCATION:Europe/Berlin
BEGIN:DAYLIGHT
DTSTART:20250330T030000
TZOFFSETFROM:+0100
TZOFFSETTO:+0200
TZNAME:CEST
END:DAYLIGHT
END:VTIMEZONE
END:VCALENDAR