BEGIN:VCALENDAR
VERSION:2.0
PRODID:-//wp-events-plugin.com//5.99912//EN
TZID:Europe/Berlin
X-WR-TIMEZONE:Europe/Berlin
BEGIN:VEVENT
UID:59705@punkt-linden.de
DTSTART;TZID=Europe/Berlin:20250618T201500
DTEND;TZID=Europe/Berlin:20250618T201500
DTSTAMP:20250606T090011Z
URL:https://punkt-linden.de/termine/2die-leisen-und-die-groen-toene/
SUMMARY:Die Leisen und die großen Töne
DESCRIPTION:Hauptpreis beim Filmfest in Emden für diese wunderbare Komödi
 e über Zusammenhalt und die Kraft der Musik!\nBenjamin Lavernhe (Birnenku
 chen mit Lavendel) und Pierre Lottin (Ein Triumph) sind brillant in dieser
  humorvollen und zugleich berührenden Komödie über Zufall und Schicksal
 \, brüderliche Liebe und die alles überwindende Kraft der Musik.\nThibau
 t ist ein berühmter Dirigent\, der die Konzertsäle der ganzen Welt berei
 st. In der Mitte seines Lebens erfährt er\, dass er adoptiert wurde und d
 ass er auch einen jüngeren Bruder hat...\n\n"Neben den ausgezeichneten Sc
 hauspielern besticht auch die mitfühlende Zeichnung einer marginalisierte
 n Region"\nFilmdienst\n\n"Der Film ist eine humorvolle Comédie humaine\, 
 in der Stadt auf Land und Hochkultur auf Volkskultur trifft. Eine Liebeser
 klärung an die verbindende Kraft der Musik."\nZürich Filmfestival\n\n"De
 r zärtliche Blick auf Zufall und Zerbrechlichkeit des Glücks tut gut und
  weh. (...) Leise und groß."\nHAZ Fr 2024\, 103 Min.\, ab 6 J.\, R: Emman
 uel Courcol\, mit: Benjamin Lavernhe\, Pierre Lottin\, Sarah Suco\, Jacque
 s Bonnaffé
CATEGORIES:Kino, Film
LOCATION:Apollo Kino\, Limmerstraße 50\, Hannover\, 30451\, Linden-Nord\, 
 Deutschland
GEO:52.37383;9.70702
X-APPLE-STRUCTURED-LOCATION;VALUE=URI;X-ADDRESS=Limmerstraße 50\, Hannover
 \, 30451\, Linden-Nord\, Deutschland;X-APPLE-RADIUS=100;X-TITLE=Apollo Kin
 o:geo:52.37383,9.70702
END:VEVENT
BEGIN:VTIMEZONE
TZID:Europe/Berlin
X-LIC-LOCATION:Europe/Berlin
BEGIN:DAYLIGHT
DTSTART:20250330T030000
TZOFFSETFROM:+0100
TZOFFSETTO:+0200
TZNAME:CEST
END:DAYLIGHT
END:VTIMEZONE
END:VCALENDAR