BEGIN:VCALENDAR
VERSION:2.0
PRODID:-//wp-events-plugin.com//5.99912//EN
TZID:Europe/Berlin
X-WR-TIMEZONE:Europe/Berlin
BEGIN:VEVENT
UID:61702@punkt-linden.de
DTSTART;TZID=Europe/Berlin:20260124T201500
DTEND;TZID=Europe/Berlin:20260124T201500
DTSTAMP:20260112T100010Z
URL:https://punkt-linden.de/termine/2der-held-vom-bahnhof-friedrichstrasse
 /
SUMMARY:Der Held vom Bahnhof Friedrichstrasse
DESCRIPTION:Adaption des gleichnamigen Bestsellers von Maxim Leo mit Charly
  Hübner (Mittagsstunde\, 3 Tag in Quiberon)! \nMichael Hartung\, der Besi
 tzer einer hoffnungslos überschuldeten Videothek\, hat sein Leben lang au
 f das falsche Pferd gesetzt. Als ein ehrgeiziger Journalist ihm mit den Er
 gebnissen seiner Recherche konfrontiert\, ändert sich für den charmant-m
 elancholischen Micha alles. Der Journalist behauptet\, dass Micha vor viel
 en Jahren als Angestellter der Reichsbahn die größte Massenflucht der DD
 R organisiert habe. Angeblich gibt es Beweise in den Stasi-Akten und sogar
  einen Gefängnisaufenthalt\, gefolgt von einer Zwangsversetzung in den Br
 aunkohle-Tagebau. Von einer verlockenden Gage verführt\, bestätigt Micha
  die Geschichte\, obwohl nur wenige Bruchstücke davon der Wahrheit entspr
 echen.\n\n"Erheitert und berührt"\nARD ttt\n\n"Sanfte\, augenzwinkernde S
 atire"\nEPD Film\n\n"Wunderbarer warmherziger Berlinfilm"\nRBB Online\n\n"
 Ein selten schönes Komödienjuwel"\nHAZD 2025\, 100 Min.\, ab 12 J.\, R: 
 Wolfgang Becker (Good Bye Lenin)\, Achim von Borries\, mit: Charly Hübner
  (Mittagsstunde)\, Christiane Paul (Lara)\, Daniel Brühl (Die Frau in Gol
 d)\, Leonie Benesch (Das Lehrerzimmer)\, Katarina Witt\, Peter Kurth (Zwei
  zu Eins)\, Jürgen Vogel (Die Welle)\, 
CATEGORIES:Kino, Film
LOCATION:Apollo Kino\, Limmerstraße 50\, Hannover\, 30451\, Linden-Nord\, 
 Deutschland
GEO:52.37383;9.70702
X-APPLE-STRUCTURED-LOCATION;VALUE=URI;X-ADDRESS=Limmerstraße 50\, Hannover
 \, 30451\, Linden-Nord\, Deutschland;X-APPLE-RADIUS=100;X-TITLE=Apollo Kin
 o:geo:52.37383,9.70702
END:VEVENT
BEGIN:VTIMEZONE
TZID:Europe/Berlin
X-LIC-LOCATION:Europe/Berlin
BEGIN:STANDARD
DTSTART:20251026T020000
TZOFFSETFROM:+0200
TZOFFSETTO:+0100
TZNAME:CET
END:STANDARD
END:VTIMEZONE
END:VCALENDAR