BEGIN:VCALENDAR
VERSION:2.0
PRODID:-//wp-events-plugin.com//5.99912//EN
TZID:Europe/Berlin
X-WR-TIMEZONE:Europe/Berlin
BEGIN:VEVENT
UID:62854@punkt-linden.de
DTSTART;TZID=Europe/Berlin:20260501T180000
DTEND;TZID=Europe/Berlin:20260501T180000
DTSTAMP:20260419T090011Z
URL:https://punkt-linden.de/termine/2das-fluestern-der-waelder/
SUMMARY:Das Flüstern der Wälder
DESCRIPTION:Erleben Sie die visuelle Pracht und die poetischen Klänge des 
 Waldes!\nEine Ode an Flora und Fauna der Vogesen\, ein Brückenschlag zwis
 chen Mensch und Natur\, zwischen Fotografie und Film\, zwischen Tag und Na
 cht\, zwischen Persönlichem und Universellem.\nGeduld ist die wichtigste 
 Eigenschaft\, die Michel Munier auf seinen Streifzügen tief in die alten\
 , moosbedeckten Wälder der Vogesen mitbringen muss. Mit Rucksack\, Stock 
 und einer warmen Jacke ausgestattet\, zieht es ihn immer wieder tief hinei
 n in die Stille des Waldes\, zu einem ganz besonderen Ort: einer Tanne\, d
 ie zu seinem Versteck geworden ist. Unter ihren Ästen scheint der alte Ma
 nn mit der Natur zu verschmelzen. Über achthundert Nächte hat er dort ve
 rbracht\, lauschend\, beobachtend - immer auf der Suche nach Füchsen\, Re
 hen\, Hirschen\, Luchsen und dem geheimnisvollen König der Wälder: dem A
 uerhahn.\nSein Sohn Vincent teilt die Faszination des Vaters seit seinem z
 wölften Lebensjahr. Von ihm hat er gelernt\, die Spuren der Tiere zu lese
 n\, kennt die Plätze\, an denen sie fressen\, wo sie jagen\, ihre Nester 
 bauen und schlafen. Gemeinsam mit Vincents Sohn Simon begibt sich das Fami
 lien-Trio auf eine Reise in die atemberaubende Schönheit der Natur.\n\n"E
 in unglaublich immersiver Film\, der die zauberhafte Schönheit der Natur 
 festhält\, jedoch zugleich ihre Fragilität ausstellt. Ein Film zum Durch
 atmen und Nachdenken. "\noutnow.ch\n\nSo entschleunigend und heilsam wie e
 in Kurzurlaub\nGalore\n\nKraftvoll und kolossal-großes Kino\nSaarbrücker
  Zeitung\n\nEine Hymne auf die Schönheit des Tierreichs\nLe Figaro\n\nVon
  einer überwältigenden emotionalen Kraft\nLiberation\n\nEine poetische L
 iebeserklärung an die Natur\nLHumanité\nFr 2025\, 93 Min.\, ab 0 J.\, R:
  Vincent Munier\, mit: Michel\, Simon und Vincent Munier\, 
CATEGORIES:Kino, Film
LOCATION:Apollo Kino\, Limmerstraße 50\, Hannover\, 30451\, Linden-Nord\, 
 Deutschland
GEO:52.37383;9.70702
X-APPLE-STRUCTURED-LOCATION;VALUE=URI;X-ADDRESS=Limmerstraße 50\, Hannover
 \, 30451\, Linden-Nord\, Deutschland;X-APPLE-RADIUS=100;X-TITLE=Apollo Kin
 o:geo:52.37383,9.70702
END:VEVENT
BEGIN:VTIMEZONE
TZID:Europe/Berlin
X-LIC-LOCATION:Europe/Berlin
BEGIN:DAYLIGHT
DTSTART:20260329T030000
TZOFFSETFROM:+0100
TZOFFSETTO:+0200
TZNAME:CEST
END:DAYLIGHT
END:VTIMEZONE
END:VCALENDAR