BEGIN:VCALENDAR
VERSION:2.0
PRODID:-//wp-events-plugin.com//5.99912//EN
TZID:Europe/Berlin
X-WR-TIMEZONE:Europe/Berlin
BEGIN:VEVENT
UID:61482@punkt-linden.de
DTSTART;TZID=Europe/Berlin:20251227T223000
DTEND;TZID=Europe/Berlin:20251227T223000
DTSTAMP:20251215T100010Z
URL:https://punkt-linden.de/termine/2bugonia/
SUMMARY:BUGONIA
DESCRIPTION:3 GOLDEN GLOBE-Nominierungen\, u.a. Bester Film\, Emma Stone!\n
 Der neue Film von Regiemeister GIORGOS LANTHIMOS (POOR THINGS\, THE FAVORI
 TTE\, THE LOBSTER) wieder mit EMMA STONE (POOR THINGS\, LA LA LAND). \nZwe
 i Freunde mit einer starken Neigung zu Verschwörungstheorien fassen einen
  riskanten Plan: Sie entführen die mächtige Geschäftsführerin eines be
 deutenden Unternehmens. Angetrieben von ihrer Überzeugung\, dass die Frau
  in Wahrheit eine Außerirdische sei\, die eine Bedrohung für die Erde da
 rstellt\, geraten sie in ein gefährliches Spiel\, in dem Realität und Wa
 hn zunehmend verschwimmen.\n\nWillkommen in der wunderbaren Welt der Versc
 hwörungstheorien () Wer ist eigentlich der grössere Alien Mensch oder Al
 ien.\nARD ttt\n\n"Wilde(...) Verschwörungsthriller-Satire"\nHAZ\n\nDas wi
 tzigste Duell des Kinojahres () Top-Managerin gegen Verschwörungsideologe
 n: Emma Stone und Jesse Plemons liefern sich in der Komödie BUGONIA einen
  skurrilen Machtkampf\nSüddeutsche Zeitung\n\nEin herrlich absurdes Gefec
 ht\nHAZ\nUSA 2025\, 120 Min.\, ab 16 J.\, \, R: Yorgos Lanthimos\, mit: Em
 ma Stone\, Alicia Silverstone\, Jesse Plemons
CATEGORIES:Kino, Film
LOCATION:Apollo Kino\, Limmerstraße 50\, Hannover\, 30451\, Linden-Nord\, 
 Deutschland
GEO:52.37383;9.70702
X-APPLE-STRUCTURED-LOCATION;VALUE=URI;X-ADDRESS=Limmerstraße 50\, Hannover
 \, 30451\, Linden-Nord\, Deutschland;X-APPLE-RADIUS=100;X-TITLE=Apollo Kin
 o:geo:52.37383,9.70702
END:VEVENT
BEGIN:VTIMEZONE
TZID:Europe/Berlin
X-LIC-LOCATION:Europe/Berlin
BEGIN:STANDARD
DTSTART:20251026T020000
TZOFFSETFROM:+0200
TZOFFSETTO:+0100
TZNAME:CET
END:STANDARD
END:VTIMEZONE
END:VCALENDAR