BEGIN:VCALENDAR
VERSION:2.0
PRODID:-//wp-events-plugin.com//5.99912//EN
TZID:Europe/Berlin
X-WR-TIMEZONE:Europe/Berlin
BEGIN:VEVENT
UID:59877@punkt-linden.de
DTSTART;TZID=Europe/Berlin:20250705T174500
DTEND;TZID=Europe/Berlin:20250705T174500
DTSTAMP:20250623T090013Z
URL:https://punkt-linden.de/termine/2bolero/
SUMMARY:BOLERO
DESCRIPTION:Der Film von Anne Fontaine (Coco Chanel) erzählt die Entstehun
 g des gleichnamigen Ballett- und Orchesterstücks und wirf einen Blick auf
  das Leben und Schaffen seines Schöpfers ...\n1928\, während Paris im Rh
 ythmus der Roaring Twenties schwingt\, gibt die Tänzerin Ida Rubinstein b
 ei Maurice Ravel die Musik für ihr nächstes Ballett in Auftrag. Dafür m
 uss der Komponist durch die Seiten seines Lebens blättern: Die Misserfolg
 e seiner Anfänge\, der Bruch durch den Ersten Weltkrieg\, die unmögliche
  Liebe zu seiner Muse Misia Sert... Ravel taucht tief in sein Innerstes ei
 n\, um sein universelles Werk\, den BOLERO\, zu schaffen. \nDer Film geht 
 auch der Biografie des Schöpfers nach: Was war vorher Was kam danach Und 
 wie wirkte sich der Erfolg des Stücks für den Komponisten aus \n\n"Mit S
 charfsinn porträtiert die Filmemacherin einen zweifelnden\, ständig unzu
 friedenen Menschen\, der erschöpfend den Geräuschen der Welt lauscht\, u
 m ihnen die ultimative Melodie zu entlocken."\nLe Nouvelliste\n\n"Im Biopi
 c von Anne Fontaine ist die Musik des Komponisten völlig eins mit den Bil
 dern." \nLe TempsFr 2024\, 120 Min.\, ab 12 J.\, R: Anne Fontaine (Coco Ch
 anel)\, mit: Raphaël Personnaz\, Doria Tillier\, Jeanne Balibar
CATEGORIES:Kino, Film
LOCATION:Apollo Kino\, Limmerstraße 50\, Hannover\, 30451\, Linden-Nord\, 
 Deutschland
GEO:52.37383;9.70702
X-APPLE-STRUCTURED-LOCATION;VALUE=URI;X-ADDRESS=Limmerstraße 50\, Hannover
 \, 30451\, Linden-Nord\, Deutschland;X-APPLE-RADIUS=100;X-TITLE=Apollo Kin
 o:geo:52.37383,9.70702
END:VEVENT
BEGIN:VTIMEZONE
TZID:Europe/Berlin
X-LIC-LOCATION:Europe/Berlin
BEGIN:DAYLIGHT
DTSTART:20250330T030000
TZOFFSETFROM:+0100
TZOFFSETTO:+0200
TZNAME:CEST
END:DAYLIGHT
END:VTIMEZONE
END:VCALENDAR