BEGIN:VCALENDAR
VERSION:2.0
PRODID:-//wp-events-plugin.com//5.99912//EN
TZID:Europe/Berlin
X-WR-TIMEZONE:Europe/Berlin
BEGIN:VEVENT
UID:60882@punkt-linden.de
DTSTART;TZID=Europe/Berlin:20251019T140000
DTEND;TZID=Europe/Berlin:20251019T140000
DTSTAMP:20251007T090010Z
URL:https://punkt-linden.de/termine/2akikoder-fliegende-affe/
SUMMARY:AKIKO - Der fliegende Affe
DESCRIPTION:Dt. Filmpreis -LOLA- als Bester Kinderfilm für den aus Hannove
 r stammenden Regisseur VEIT HELMER!\nViel gelobt auf vielen Kinderfilmfest
 en!\nEin spannendes liebeswertes Abenteuer fur die ganze Familie\nAkiko is
 t ein Affenkind\, das aus dem Zoo ausbuxt und eine große Aufgabe zu löse
 n hat. Dabei schließt er Freundschaft mit einem Adler\, einem Waschbären
 \, einem Frettchen\, einem Papagei und einem Chamäleon.\nIn seinen Weg st
 ellen sich HEIKE MAKATSCH als Polizeidirektorin\, MERET BECKER als Zoodire
 ktorin und BENNO FÜRMANN in der Rolle des Zoowärters.\nEine einzigartige
  Mischung aus Realfilm und Computeranimation\, die Tiere jeder Größe\, v
 om Frettchen bis zum Elefanten\, zum Sprechen bringt.D 2024\, 70 Min.\, FS
 K 0 J.\, R: Veit Helmer\, mit: Heike Makatsch\, Meret Becker\, Benno Führ
 mann
CATEGORIES:Kino, Film
LOCATION:Apollo Kino\, Limmerstraße 50\, Hannover\, 30451\, Linden-Nord\, 
 Deutschland
GEO:52.37383;9.70702
X-APPLE-STRUCTURED-LOCATION;VALUE=URI;X-ADDRESS=Limmerstraße 50\, Hannover
 \, 30451\, Linden-Nord\, Deutschland;X-APPLE-RADIUS=100;X-TITLE=Apollo Kin
 o:geo:52.37383,9.70702
END:VEVENT
BEGIN:VTIMEZONE
TZID:Europe/Berlin
X-LIC-LOCATION:Europe/Berlin
BEGIN:DAYLIGHT
DTSTART:20250330T030000
TZOFFSETFROM:+0100
TZOFFSETTO:+0200
TZNAME:CEST
END:DAYLIGHT
END:VTIMEZONE
END:VCALENDAR