BEGIN:VCALENDAR
VERSION:2.0
PRODID:-//wp-events-plugin.com//5.99912//EN
TZID:Europe/Berlin
X-WR-TIMEZONE:Europe/Berlin
BEGIN:VEVENT
UID:60914@punkt-linden.de
DTSTART;TZID=Europe/Berlin:20251101T100000
DTEND;TZID=Europe/Berlin:20251101T235900
DTSTAMP:20251010T155822Z
URL:https://punkt-linden.de/termine/2-bookstore-crawl-hannover/
SUMMARY:2. Bookstore Crawl Hannover
DESCRIPTION:12 unabhängige Buchhandlungen beteiligen sich am zweiten Books
 tore Crawl Hannover vom 1. bis 8. November. Sie laden ein zur Stöbertour 
 durch ihre Läden. Mit dabei ist auch Annabee am Lindener Marktplatz.
ATTACH;FMTTYPE=image/jpeg:https://punkt-linden.de/wp-content/uploads/2025/
 10/annabee.png
CATEGORIES:Literatur, Lesung
LOCATION:ANNABEE Buchladen\, Stephanusstraße 12-14\, Hannover\, 30449\, De
 utschland
GEO:52.368743;9.71456
X-APPLE-STRUCTURED-LOCATION;VALUE=URI;X-ADDRESS=Stephanusstraße 12-14\, Ha
 nnover\, 30449\, Deutschland;X-APPLE-RADIUS=100;X-TITLE=ANNABEE Buchladen:
 geo:52.368743,9.71456
END:VEVENT
BEGIN:VTIMEZONE
TZID:Europe/Berlin
X-LIC-LOCATION:Europe/Berlin
BEGIN:STANDARD
DTSTART:20251026T020000
TZOFFSETFROM:+0200
TZOFFSETTO:+0100
TZNAME:CET
END:STANDARD
END:VTIMEZONE
END:VCALENDAR