BEGIN:VCALENDAR
VERSION:2.0
PRODID:-//wp-events-plugin.com//5.99912//EN
TZID:Europe/Berlin
X-WR-TIMEZONE:Europe/Berlin
BEGIN:VEVENT
UID:61009@punkt-linden.de
DTSTART;TZID=Europe/Berlin:20251102T180000
DTEND;TZID=Europe/Berlin:20251102T180000
DTSTAMP:20251021T090010Z
URL:https://punkt-linden.de/termine/1leibnizchronik-eines-verschollenen-bi
 ldes/
SUMMARY:LEIBNIZ - Chronik eines verschollenen Bildes
DESCRIPTION:EDGAR SELGE (Poll\, Bach in Brazil)\, BARBARA SUKOWA (Hannah Ar
 endt) und LARS EIDINGER (Sterben\, Nahschuss) brillieren in dem Kammerspie
 l von Regielegende EDGAR REITZ (Heimat).\nDer Film über ein verschollenes
  Gemälde von Hannovers Universalgelehrten Gottfried Wilhelm Leibniz ist e
 in ebenso kluger wie gewitzter Schlagabtausch zwischen Gelehrten und Küns
 tlern und zeigt dabei die unzähligen Facetten des Gottfried Wilhelm Leibn
 iz: Philosoph\, Mathematiker\, Jurist\, Historiker und politischer Berater
  der frühen Aufklärung. Das von Leibniz weiterentwickelte duale Zahlensy
 stem legte den Grundstein zur rechnergestützten Informationstechnologie d
 es 20. Jahrhunderts. \nIm Harz machte er zahlreiche Vorschläge zur Verbes
 serung des Oberharzer Bergbaus.\nIm Auftrag der Kurfürstin Sophie von Han
 nover soll der große Denker Gottfried Wilhelm Leibniz porträtiert werden
 . Allerdings steht dem Gelehrten ganz und gar nicht der Sinn danach. Währ
 end der Sitzungen für das Gemälde entbrennt zwischen dem Philosophen und
  der jungen Malerin ein leidenschaftlicher Kampf um die Wahrheit in Bild u
 nd Abbild\, Realität und Kunst.\n\n"Vergnügliche (s) Kolloquium über Fr
 agen der Kunst und Philosophie"\nEPD Film\n\n"Ein mit Geistesgeschichte ge
 tränktes Zeitbild\, das die Welt der Aufklärung als Möglichkeitsraum"\n
 Filmdienst\n\n"Anspruchvolles Filmporträt über das Universalgenie"\nSWR 
 Kultur\n\n"Geistreiches Historienkino"\n3sat kino kino\n\n"Kunstvolles Por
 trät des Philosophen Gottfried Wilhelm Leibniz und seiner Zeit."\nFAZ\n\n
 "Ein stilles und dennoch oppulentes Alterswerk"\nDie Zeit\n\n"Beeindrucken
 des Kammerspiel (...) erfordert einen hellen Kopf. Es lohnt sich."\nHAZD 2
 025\, 102 Min.\, ab 6 J.\, R: Edgar Reitz\, mit: Edgar Selge\, Lars Eiding
 er\, Barbara Sukowa\, Aenne Schwarz\, Antonia Bill\, Michael Kranz uvw.
CATEGORIES:Kino, Film
LOCATION:Apollo Kino\, Limmerstraße 50\, Hannover\, 30451\, Linden-Nord\, 
 Deutschland
GEO:52.37383;9.70702
X-APPLE-STRUCTURED-LOCATION;VALUE=URI;X-ADDRESS=Limmerstraße 50\, Hannover
 \, 30451\, Linden-Nord\, Deutschland;X-APPLE-RADIUS=100;X-TITLE=Apollo Kin
 o:geo:52.37383,9.70702
END:VEVENT
BEGIN:VTIMEZONE
TZID:Europe/Berlin
X-LIC-LOCATION:Europe/Berlin
BEGIN:STANDARD
DTSTART:20251026T020000
TZOFFSETFROM:+0200
TZOFFSETTO:+0100
TZNAME:CET
END:STANDARD
END:VTIMEZONE
END:VCALENDAR