BEGIN:VCALENDAR
VERSION:2.0
PRODID:-//wp-events-plugin.com//5.99912//EN
TZID:Europe/Berlin
X-WR-TIMEZONE:Europe/Berlin
BEGIN:VEVENT
UID:59559@punkt-linden.de
DTSTART;TZID=Europe/Berlin:20250529T160000
DTEND;TZID=Europe/Berlin:20250529T160000
DTSTAMP:20250517T090008Z
URL:https://punkt-linden.de/termine/1dog-manwau-gegen-miau/
SUMMARY:DOG MAN - WAU GEGEN MIAU
DESCRIPTION:Nach KUNG FU PANDA und DRACHENZÄHMEN LEIHT GEMACHT ein neuer S
 paß aus den DREAMWORKS-Studios! Der hechelnde Held Dog Man\, halb Hund\, 
 halb Mensch schwört\, die Stadt zu beschützen  und immer brav Sitz zu ma
 chen und Pfötchen zu geben...\n\nMit viel Humor und Herz erkundet der Fil
 m auf charmant-schräge Weise die Kraft der Liebe und die Macht von Katzen
 babys\, die selbst die feindseligsten (und haarigsten) Widersacher vereint
 ! Regie führt dabei Emmy-Gewinner Peter Hastings (Kung Fu Panda  Legenden
  mit Fell und Fu)\, der bereits mit Die Abenteuer des Captain Underpants e
 inen herrlich abgefahrenen Pilkey-Spaß umgesetzt hat und außerdem hinter
  so kultigen wie bahnbrechenden Zeichentrickerfolgen wie Animaniacs und Pi
 nky und der Brain steckt.\n\n"Temporeiches Abenteuer nach bekanntem Comic 
 (...) sehr wild\, sehr schräg\, ganz toll gezeichnet"\nARD moma\nUSA 2025
 \, 94 Min.\, ab 6 J.\, R: Peter Hastings
CATEGORIES:Kino, Film
LOCATION:Apollo Kino\, Limmerstraße 50\, Hannover\, 30451\, Linden-Nord\, 
 Deutschland
GEO:52.37383;9.70702
X-APPLE-STRUCTURED-LOCATION;VALUE=URI;X-ADDRESS=Limmerstraße 50\, Hannover
 \, 30451\, Linden-Nord\, Deutschland;X-APPLE-RADIUS=100;X-TITLE=Apollo Kin
 o:geo:52.37383,9.70702
END:VEVENT
BEGIN:VTIMEZONE
TZID:Europe/Berlin
X-LIC-LOCATION:Europe/Berlin
BEGIN:DAYLIGHT
DTSTART:20250330T030000
TZOFFSETFROM:+0100
TZOFFSETTO:+0200
TZNAME:CEST
END:DAYLIGHT
END:VTIMEZONE
END:VCALENDAR