BEGIN:VCALENDAR
VERSION:2.0
PRODID:-//wp-events-plugin.com//5.99912//EN
TZID:Europe/Berlin
X-WR-TIMEZONE:Europe/Berlin
BEGIN:VEVENT
UID:60108@punkt-linden.de
DTSTART;TZID=Europe/Berlin:20250803T153000
DTEND;TZID=Europe/Berlin:20250803T153000
DTSTAMP:20250722T090010Z
URL:https://punkt-linden.de/termine/1der-wilde-roboter/
SUMMARY:Der wilde Roboter
DESCRIPTION:4 GOLDEN GLOBE - Nominierngen!\nDer New-York-Times-Bestseller v
 erfilmt vom Erfinder von LILO & STICH und DRACHENZÄHMEN LEICHT GEMACHT!\n
 Rozzum 7134  kurz Roz (gesprochen von Judith Rakers)  ist kein gewöhnlich
 er Roboter. Sie wurde eigentlich als Unterstützung für eine futuristisch
 e urbane Welt entwickelt\, doch nun hat sie Schiffbruch erlitten und ist a
 uf einer einsamen Insel gestrandet. Mit Mühe baut sie Beziehungen zu den 
 zunächst argwöhnischen Tieren auf und lernt\, sich an die ungewohnte\, r
 aue Umgebung anzupassen.\nDas große Abenteuer beginnt\, als sie durch ein
 en Zufall zur Beschützerin eines hilflosen\, verwaisten Gänsekükens wir
 d und die wahre Bedeutung des Lebens entdeckt.\n\n"Ein visuell eindrucksvo
 ller\, grandios animierter CGI-Trickfilm. Mit großer künstlerischer Plas
 tizität und erzählerischer Wärme entwirft er eine prototypische Welt na
 ch dem Menschen\, die auf gegenseitige Hilfe angewiesen ist\, wenn sie der
  Kälte des Winters trotzen will."\nFilmdienst\n\n"Bemerkenswerter Film"\n
 EPD Film\nUSA 2024\, 101 Min.\, ab 6 J\, R. Chris Sanders\, mit der Stimme
  von Judith Rakers
CATEGORIES:Kino, Film
LOCATION:Apollo Kino\, Limmerstraße 50\, Hannover\, 30451\, Linden-Nord\, 
 Deutschland
GEO:52.37383;9.70702
X-APPLE-STRUCTURED-LOCATION;VALUE=URI;X-ADDRESS=Limmerstraße 50\, Hannover
 \, 30451\, Linden-Nord\, Deutschland;X-APPLE-RADIUS=100;X-TITLE=Apollo Kin
 o:geo:52.37383,9.70702
END:VEVENT
BEGIN:VTIMEZONE
TZID:Europe/Berlin
X-LIC-LOCATION:Europe/Berlin
BEGIN:DAYLIGHT
DTSTART:20250330T030000
TZOFFSETFROM:+0100
TZOFFSETTO:+0200
TZNAME:CEST
END:DAYLIGHT
END:VTIMEZONE
END:VCALENDAR