BEGIN:VCALENDAR
VERSION:2.0
PRODID:-//wp-events-plugin.com//5.99912//EN
TZID:Europe/Berlin
X-WR-TIMEZONE:Europe/Berlin
BEGIN:VEVENT
UID:59686@punkt-linden.de
DTSTART;TZID=Europe/Berlin:20250616T083000
DTEND;TZID=Europe/Berlin:20250616T083000
DTSTAMP:20250604T090010Z
URL:https://punkt-linden.de/termine/1dancing-queen/
SUMMARY:DANCING QUEEN
DESCRIPTION:Die Kinderfilmentdeckung der letzten Filmfestspiele Berlin jetz
 t im Kino!\nUm einen neuen Mitschüler auf sich aufmerksam zu machen\, der
  ein versierter Breakdancer ist\, nimmt eine ungelenke\, etwas pummelige 1
 2-Jährige an einem Tanzwettbewerb teil\, obwohl sie sich für Sport bishe
 r wenig begeistert hat.\nTrotz ihrer Befangenheit und der Tatsache\, dass 
 sie nicht tanzen kann\, ringt Mina sich zur Teilnahme an einem Tanzwettbew
 erb durch. Vom unangenehmen ersten Vortanzen bis zum großen Auftritt vera
 bschiedet sie sich von Selbstzweifeln und problematischen Körperbildern.\
 n\nPREIS DER KINDERJURY\, Internationales Kinderfilmfestival Wien 2023\nPR
 EIS DER KINDERJURY\, Zürich Film Festival 2023Norwegen 2023\, 92 Min.\, a
 b 6 J.\, R: Aurora Gossé\, mit: Liv Elvira Kippersund Larsson\, Sturla Pu
 ran Harbitz\, Viljar Knutsen Bjaadal u.a.\n
CATEGORIES:Kino, Film
LOCATION:Apollo Kino\, Limmerstraße 50\, Hannover\, 30451\, Linden-Nord\, 
 Deutschland
GEO:52.37383;9.70702
X-APPLE-STRUCTURED-LOCATION;VALUE=URI;X-ADDRESS=Limmerstraße 50\, Hannover
 \, 30451\, Linden-Nord\, Deutschland;X-APPLE-RADIUS=100;X-TITLE=Apollo Kin
 o:geo:52.37383,9.70702
END:VEVENT
BEGIN:VTIMEZONE
TZID:Europe/Berlin
X-LIC-LOCATION:Europe/Berlin
BEGIN:DAYLIGHT
DTSTART:20250330T030000
TZOFFSETFROM:+0100
TZOFFSETTO:+0200
TZNAME:CEST
END:DAYLIGHT
END:VTIMEZONE
END:VCALENDAR