BEGIN:VCALENDAR
VERSION:2.0
PRODID:-//wp-events-plugin.com//5.99912//EN
TZID:Europe/Berlin
X-WR-TIMEZONE:Europe/Berlin
BEGIN:VEVENT
UID:59606@punkt-linden.de
DTSTART;TZID=Europe/Berlin:20250606T180000
DTEND;TZID=Europe/Berlin:20250606T180000
DTSTAMP:20250525T090009Z
URL:https://punkt-linden.de/termine/1antifaschulter-an-schulter-wo-der-sta
 at-versagte/
SUMMARY:ANTIFA- Schulter an Schulter\, wo der Staat versagte
DESCRIPTION:Eine außergewöhnlich starke antifaschistische Bewegung entste
 ht in den 90er und 00er Jahren\,  auch als Konsequenz aus den rassistische
 n Pogromen\, die das wiedervereinte Deutschland nach `89 überrollen. Kaum
  eine politische Bewegung der Neuzeit arbeitete derart professionell auf s
 o vielen Feldern\, wie die Antifa - von militanten Aktionen über Aufklär
 ungskampagnen bis hin zu investigativen Recherchen.  \n\nFünf Aktivist:in
 nen sprechen zum ersten Mal öffentlich über Ihre Aktivitäten und versch
 melzen mit zahlreichen Schätzen aus dem Archiv zu einem intensiven Kinodo
 kumentarfilm.\n\nStatt eines einfachen historischen Rückblicks legt der F
 ilm die Schichten frei\, die den Mythos Antifa überlagern. Er gibt uns ti
 efe Einblicke in eine Form der politischen Arbeit\, die zu heftigen Überr
 eaktionen bei Staat und Bürgertum führte und doch immer notwendig war.\n
 \n\n"Erzählt die Geschichte der Bewegung (..) ungemein wertvoll"\ntaz\n\n
 \n"Eine inspirierende Aufforderung zur kritischen Reflexion über die Kraf
 t des Widerstands"\nJunge Welt\n\n\n"Gibt uns tiefe Einblicke in eine Form
  der politischen Arbeit\, die zu heftigen Überreaktionen bei Staat und B
 ürgertum führte"\nnd aktuell\n\n\n"Stützt sich auf Archivmaterial\, Fot
 os und szenische Alltagsbilder\, die einen kritischen Blick auf die Bewegu
 ng werfen"\nFilmdienst\n\nD 2024\, 96 Min.\, ab 16 J.\, R: Marco Heinig\, 
 Steffen Maurer\, 
CATEGORIES:Kino, Film
LOCATION:Apollo Kino\, Limmerstraße 50\, Hannover\, 30451\, Linden-Nord\, 
 Deutschland
GEO:52.37383;9.70702
X-APPLE-STRUCTURED-LOCATION;VALUE=URI;X-ADDRESS=Limmerstraße 50\, Hannover
 \, 30451\, Linden-Nord\, Deutschland;X-APPLE-RADIUS=100;X-TITLE=Apollo Kin
 o:geo:52.37383,9.70702
END:VEVENT
BEGIN:VTIMEZONE
TZID:Europe/Berlin
X-LIC-LOCATION:Europe/Berlin
BEGIN:DAYLIGHT
DTSTART:20250330T030000
TZOFFSETFROM:+0100
TZOFFSETTO:+0200
TZNAME:CEST
END:DAYLIGHT
END:VTIMEZONE
END:VCALENDAR