BEGIN:VCALENDAR
VERSION:2.0
PRODID:-//wp-events-plugin.com//5.99912//EN
TZID:Europe/Berlin
X-WR-TIMEZONE:Europe/Berlin
BEGIN:VEVENT
UID:61774@punkt-linden.de
DTSTART;TZID=Europe/Berlin:20260220T194500
DTEND;TZID=Europe/Berlin:20260220T194500
DTSTAMP:20260115T172602Z
URL:https://punkt-linden.de/termine/16casino-blackoutsupport-peter-aus-der
 -mozartstrasse/
SUMMARY:CASINO BLACKOUT - Support: Peter Aus Der Mozartstrasse
DESCRIPTION:Punk Ticketpreise ab: 19.95 &euro\; Hier Tickets bestellen
CATEGORIES:Kleinkunst, Schauspiel
LOCATION:LUX\, Schwarzer Bär 2\, Hannover\, 30449\, Deutschland
GEO:52.368156;9.720609
X-APPLE-STRUCTURED-LOCATION;VALUE=URI;X-ADDRESS=Schwarzer Bär 2\, Hannover
 \, 30449\, Deutschland;X-APPLE-RADIUS=100;X-TITLE=LUX:geo:52.368156,9.7206
 09
END:VEVENT
BEGIN:VTIMEZONE
TZID:Europe/Berlin
X-LIC-LOCATION:Europe/Berlin
BEGIN:STANDARD
DTSTART:20251026T020000
TZOFFSETFROM:+0200
TZOFFSETTO:+0100
TZNAME:CET
END:STANDARD
END:VTIMEZONE
END:VCALENDAR