BEGIN:VCALENDAR
VERSION:2.0
PRODID:-//wp-events-plugin.com//5.99912//EN
TZID:Europe/Berlin
X-WR-TIMEZONE:Europe/Berlin
BEGIN:VEVENT
UID:62849@punkt-linden.de
DTSTART;TZID=Europe/Berlin:20260516T163000
DTEND;TZID=Europe/Berlin:20260516T235900
DTSTAMP:20260417T195340Z
URL:https://punkt-linden.de/termine/15-jahre-fankultur-am-lindener-berg/
SUMMARY:15 Jahre Fankultur am Lindener Berg
DESCRIPTION:Fußballspiel: Fans vs. 07 Legenden\nLive-Talk: Geschichten aus
  Verein und Fangruppen\nAftershowparty: Stadionwurst\, Cocktails\, Musikpr
 ogramm\n
CATEGORIES:Musik, Konzert,Party, Feiern,Sport, Spiel
LOCATION:SV 1907 Linden Stadion\, Am Spielfelde 11\, Hannover\, 30449\, Deu
 tschland
GEO:52.36321;9.708256
X-APPLE-STRUCTURED-LOCATION;VALUE=URI;X-ADDRESS=Am Spielfelde 11\, Hannover
 \, 30449\, Deutschland;X-APPLE-RADIUS=100;X-TITLE=SV 1907 Linden Stadion:g
 eo:52.36321,9.708256
END:VEVENT
BEGIN:VTIMEZONE
TZID:Europe/Berlin
X-LIC-LOCATION:Europe/Berlin
BEGIN:DAYLIGHT
DTSTART:20260329T030000
TZOFFSETFROM:+0100
TZOFFSETTO:+0200
TZNAME:CEST
END:DAYLIGHT
END:VTIMEZONE
END:VCALENDAR