BEGIN:VCALENDAR
VERSION:2.0
PRODID:-//wp-events-plugin.com//5.99912//EN
TZID:Europe/Berlin
X-WR-TIMEZONE:Europe/Berlin
BEGIN:VEVENT
UID:61752@punkt-linden.de
DTSTART;TZID=Europe/Berlin:20260205T180000
DTEND;TZID=Europe/Berlin:20260205T235900
DTSTAMP:20260115T115631Z
URL:https://punkt-linden.de/termine/12stimmig/
SUMMARY:12STIMMIG!
DESCRIPTION:Es singt das Studioensemble der HMTHM\, bestehend aus bis zu 12
  professionellen Sänger:innen unter Leitung Studierender der Fachgruppe "
 Dirigieren". Das Ensemble bringt anspruchsvolle Ensembleliteratur zu Gehö
 r\, darunter Werke von Bach\, Schütz\, Mäntyjärvi\, Takemitsu und ander
 en.
ATTACH;FMTTYPE=image/jpeg:https://punkt-linden.de/wp-content/uploads/2026/
 01/Chorkonzert.jpeg
CATEGORIES:Musik, Konzert
LOCATION:St. Martinskirche\, Kirchstraße 19\, Hannover\, 30449\, Deutschla
 nd
GEO:52.364767;9.710622
X-APPLE-STRUCTURED-LOCATION;VALUE=URI;X-ADDRESS=Kirchstraße 19\, Hannover\
 , 30449\, Deutschland;X-APPLE-RADIUS=100;X-TITLE=St. Martinskirche:geo:52.
 364767,9.710622
END:VEVENT
BEGIN:VTIMEZONE
TZID:Europe/Berlin
X-LIC-LOCATION:Europe/Berlin
BEGIN:STANDARD
DTSTART:20251026T020000
TZOFFSETFROM:+0200
TZOFFSETTO:+0100
TZNAME:CET
END:STANDARD
END:VTIMEZONE
END:VCALENDAR