BEGIN:VCALENDAR
VERSION:2.0
PRODID:-//wp-events-plugin.com//5.99912//EN
TZID:Europe/Berlin
X-WR-TIMEZONE:Europe/Berlin
BEGIN:VEVENT
UID:62289@punkt-linden.de
DTSTART;TZID=Europe/Berlin:20260506T193000
DTEND;TZID=Europe/Berlin:20260506T193000
DTSTAMP:20260223T170005Z
URL:https://punkt-linden.de/termine/11-groes-bierpongturnier/
SUMMARY:11. großes Bierpong - Turnier
DESCRIPTION:11. Großes Bierpong-Turnier\nPing Pong\, Prost! Bierpong im Ch
 ez Heinz!Es wird die Königsdisziplin des feucht-fröhlichen Sports ausget
 ragen: Bierpong!\nEinlass ist ab 19:00 Uhr\, damit ihr eure Wurfarme warm 
 schwingen könnt – um 19:30 Uhr fliegen die ersten Bälle!\nGespielt wir
 d in 2er-Teams\, also schnappt euch euren Bierpong-Buddy und macht euch be
 reit für eine unvergessliche Schlacht um Ruhm\, Ehre und das eine oder an
 dere Bier.&nbsp\;\nDer Eintritt beträgt 2 € pro Teilnehmer – ein echt
 es Schnäppchen für jede Menge Spaß!&nbsp\;\nAnmeldung: Meldet euer Team
  einfach per E-Mail (bierpong@beichezheinz.de) an und sichert euch einen d
 er begehrten Plätze.\nAlso: Werft die Bälle\, nicht das Handtuch – wir
  freuen uns auf euch!&nbsp\;\nCheers und bis dahin!Tickets: Startgeld 2.-
CATEGORIES:Sport, Spiel
LOCATION:Béi Chéz Heinz\, Liepmannstraße 7b\, Hannover\, 30453\, Deutsch
 land
GEO:52.37195;9.69636
X-APPLE-STRUCTURED-LOCATION;VALUE=URI;X-ADDRESS=Liepmannstraße 7b\, Hannov
 er\, 30453\, Deutschland;X-APPLE-RADIUS=100;X-TITLE=Béi Chéz Heinz:geo:5
 2.37195,9.69636
END:VEVENT
BEGIN:VTIMEZONE
TZID:Europe/Berlin
X-LIC-LOCATION:Europe/Berlin
BEGIN:DAYLIGHT
DTSTART:20260329T030000
TZOFFSETFROM:+0100
TZOFFSETTO:+0200
TZNAME:CEST
END:DAYLIGHT
END:VTIMEZONE
END:VCALENDAR